BEGIN:VCALENDAR
VERSION:2.0
PRODID:-//All Saints Berkhamsted - ECPv6.15.20//NONSGML v1.0//EN
CALSCALE:GREGORIAN
METHOD:PUBLISH
X-ORIGINAL-URL:https://www.allsaintsberkhamsted.org.uk
X-WR-CALDESC:Events for All Saints Berkhamsted
REFRESH-INTERVAL;VALUE=DURATION:PT1H
X-Robots-Tag:noindex
X-PUBLISHED-TTL:PT1H
BEGIN:VTIMEZONE
TZID:Europe/London
BEGIN:DAYLIGHT
TZOFFSETFROM:+0000
TZOFFSETTO:+0100
TZNAME:BST
DTSTART:20270328T010000
END:DAYLIGHT
BEGIN:STANDARD
TZOFFSETFROM:+0100
TZOFFSETTO:+0000
TZNAME:GMT
DTSTART:20271031T010000
END:STANDARD
BEGIN:DAYLIGHT
TZOFFSETFROM:+0000
TZOFFSETTO:+0100
TZNAME:BST
DTSTART:20280326T010000
END:DAYLIGHT
BEGIN:STANDARD
TZOFFSETFROM:+0100
TZOFFSETTO:+0000
TZNAME:GMT
DTSTART:20281029T010000
END:STANDARD
BEGIN:DAYLIGHT
TZOFFSETFROM:+0000
TZOFFSETTO:+0100
TZNAME:BST
DTSTART:20290325T010000
END:DAYLIGHT
BEGIN:STANDARD
TZOFFSETFROM:+0100
TZOFFSETTO:+0000
TZNAME:GMT
DTSTART:20291028T010000
END:STANDARD
END:VTIMEZONE
BEGIN:VEVENT
DTSTART;TZID=Europe/London:20280901T160000
DTEND;TZID=Europe/London:20280901T161500
DTSTAMP:20260424T025341
CREATED:20221129T125503Z
LAST-MODIFIED:20240518T190542Z
UID:10001535-1851436800-1851437700@www.allsaintsberkhamsted.org.uk
SUMMARY:Evening Prayer
DESCRIPTION:with Tracy Robinson
URL:https://www.allsaintsberkhamsted.org.uk/event/evening-prayer-2/2028-09-01/
LOCATION:All Saints’ Church\, Shrublands Road\, Berkhamsted\, HP4 3HY\, United Kingdom
CATEGORIES:worship
GEO:51.7618641;-0.5750555
X-APPLE-STRUCTURED-LOCATION;VALUE=URI;X-ADDRESS=All Saints’ Church Shrublands Road Berkhamsted HP4 3HY United Kingdom;X-APPLE-RADIUS=500;X-TITLE=Shrublands Road:geo:-0.5750555,51.7618641
END:VEVENT
BEGIN:VEVENT
DTSTART;TZID=Europe/London:20280905T090000
DTEND;TZID=Europe/London:20280905T091500
DTSTAMP:20260424T025341
CREATED:20230619T152758Z
LAST-MODIFIED:20240518T190334Z
UID:10001610-1851757200-1851758100@www.allsaintsberkhamsted.org.uk
SUMMARY:Morning Prayer
DESCRIPTION:with Tracy Robinson
URL:https://www.allsaintsberkhamsted.org.uk/event/morning-prayer-3-2/2028-09-05/
LOCATION:All Saints’ Church\, Shrublands Road\, Berkhamsted\, HP4 3HY\, United Kingdom
CATEGORIES:worship
GEO:51.7618641;-0.5750555
X-APPLE-STRUCTURED-LOCATION;VALUE=URI;X-ADDRESS=All Saints’ Church Shrublands Road Berkhamsted HP4 3HY United Kingdom;X-APPLE-RADIUS=500;X-TITLE=Shrublands Road:geo:-0.5750555,51.7618641
END:VEVENT
BEGIN:VEVENT
DTSTART;TZID=Europe/London:20280905T093000
DTEND;TZID=Europe/London:20280905T100000
DTSTAMP:20260424T025341
CREATED:20241107T184220Z
LAST-MODIFIED:20241107T184220Z
UID:10001902-1851759000-1851760800@www.allsaintsberkhamsted.org.uk
SUMMARY:Eucharist
DESCRIPTION:
URL:https://www.allsaintsberkhamsted.org.uk/event/eucharist/2028-09-05/
LOCATION:All Saints’ Church\, Shrublands Road\, Berkhamsted\, HP4 3HY\, United Kingdom
CATEGORIES:worship
GEO:51.7618641;-0.5750555
X-APPLE-STRUCTURED-LOCATION;VALUE=URI;X-ADDRESS=All Saints’ Church Shrublands Road Berkhamsted HP4 3HY United Kingdom;X-APPLE-RADIUS=500;X-TITLE=Shrublands Road:geo:-0.5750555,51.7618641
END:VEVENT
BEGIN:VEVENT
DTSTART;TZID=Europe/London:20280907T204500
DTEND;TZID=Europe/London:20280907T211500
DTSTAMP:20260424T025341
CREATED:20250402T135535Z
LAST-MODIFIED:20250402T135535Z
UID:10002083-1851972300-1851974100@www.allsaintsberkhamsted.org.uk
SUMMARY:Compline (Night Prayer)
DESCRIPTION:On Zoom only\,  not in church – fortnightly on Thursday evenings \nThe Zoom link will be available on our homepage
URL:https://www.allsaintsberkhamsted.org.uk/event/compline-night-prayer-5/2028-09-07/
LOCATION:All Saints’ Church\, Shrublands Road\, Berkhamsted\, HP4 3HY\, United Kingdom
CATEGORIES:worship
GEO:51.7618641;-0.5750555
X-APPLE-STRUCTURED-LOCATION;VALUE=URI;X-ADDRESS=All Saints’ Church Shrublands Road Berkhamsted HP4 3HY United Kingdom;X-APPLE-RADIUS=500;X-TITLE=Shrublands Road:geo:-0.5750555,51.7618641
END:VEVENT
BEGIN:VEVENT
DTSTART;TZID=Europe/London:20280908T160000
DTEND;TZID=Europe/London:20280908T161500
DTSTAMP:20260424T025341
CREATED:20221129T125503Z
LAST-MODIFIED:20240518T190542Z
UID:10001536-1852041600-1852042500@www.allsaintsberkhamsted.org.uk
SUMMARY:Evening Prayer
DESCRIPTION:with Tracy Robinson
URL:https://www.allsaintsberkhamsted.org.uk/event/evening-prayer-2/2028-09-08/
LOCATION:All Saints’ Church\, Shrublands Road\, Berkhamsted\, HP4 3HY\, United Kingdom
CATEGORIES:worship
GEO:51.7618641;-0.5750555
X-APPLE-STRUCTURED-LOCATION;VALUE=URI;X-ADDRESS=All Saints’ Church Shrublands Road Berkhamsted HP4 3HY United Kingdom;X-APPLE-RADIUS=500;X-TITLE=Shrublands Road:geo:-0.5750555,51.7618641
END:VEVENT
BEGIN:VEVENT
DTSTART;TZID=Europe/London:20280912T090000
DTEND;TZID=Europe/London:20280912T091500
DTSTAMP:20260424T025341
CREATED:20230619T152758Z
LAST-MODIFIED:20240518T190334Z
UID:10001611-1852362000-1852362900@www.allsaintsberkhamsted.org.uk
SUMMARY:Morning Prayer
DESCRIPTION:with Tracy Robinson
URL:https://www.allsaintsberkhamsted.org.uk/event/morning-prayer-3-2/2028-09-12/
LOCATION:All Saints’ Church\, Shrublands Road\, Berkhamsted\, HP4 3HY\, United Kingdom
CATEGORIES:worship
GEO:51.7618641;-0.5750555
X-APPLE-STRUCTURED-LOCATION;VALUE=URI;X-ADDRESS=All Saints’ Church Shrublands Road Berkhamsted HP4 3HY United Kingdom;X-APPLE-RADIUS=500;X-TITLE=Shrublands Road:geo:-0.5750555,51.7618641
END:VEVENT
BEGIN:VEVENT
DTSTART;TZID=Europe/London:20280912T093000
DTEND;TZID=Europe/London:20280912T100000
DTSTAMP:20260424T025341
CREATED:20241107T184220Z
LAST-MODIFIED:20241107T184220Z
UID:10001903-1852363800-1852365600@www.allsaintsberkhamsted.org.uk
SUMMARY:Eucharist
DESCRIPTION:
URL:https://www.allsaintsberkhamsted.org.uk/event/eucharist/2028-09-12/
LOCATION:All Saints’ Church\, Shrublands Road\, Berkhamsted\, HP4 3HY\, United Kingdom
CATEGORIES:worship
GEO:51.7618641;-0.5750555
X-APPLE-STRUCTURED-LOCATION;VALUE=URI;X-ADDRESS=All Saints’ Church Shrublands Road Berkhamsted HP4 3HY United Kingdom;X-APPLE-RADIUS=500;X-TITLE=Shrublands Road:geo:-0.5750555,51.7618641
END:VEVENT
BEGIN:VEVENT
DTSTART;TZID=Europe/London:20280915T160000
DTEND;TZID=Europe/London:20280915T161500
DTSTAMP:20260424T025341
CREATED:20221129T125503Z
LAST-MODIFIED:20240518T190542Z
UID:10001537-1852646400-1852647300@www.allsaintsberkhamsted.org.uk
SUMMARY:Evening Prayer
DESCRIPTION:with Tracy Robinson
URL:https://www.allsaintsberkhamsted.org.uk/event/evening-prayer-2/2028-09-15/
LOCATION:All Saints’ Church\, Shrublands Road\, Berkhamsted\, HP4 3HY\, United Kingdom
CATEGORIES:worship
GEO:51.7618641;-0.5750555
X-APPLE-STRUCTURED-LOCATION;VALUE=URI;X-ADDRESS=All Saints’ Church Shrublands Road Berkhamsted HP4 3HY United Kingdom;X-APPLE-RADIUS=500;X-TITLE=Shrublands Road:geo:-0.5750555,51.7618641
END:VEVENT
BEGIN:VEVENT
DTSTART;TZID=Europe/London:20280919T090000
DTEND;TZID=Europe/London:20280919T091500
DTSTAMP:20260424T025341
CREATED:20230619T152758Z
LAST-MODIFIED:20240518T190334Z
UID:10001612-1852966800-1852967700@www.allsaintsberkhamsted.org.uk
SUMMARY:Morning Prayer
DESCRIPTION:with Tracy Robinson
URL:https://www.allsaintsberkhamsted.org.uk/event/morning-prayer-3-2/2028-09-19/
LOCATION:All Saints’ Church\, Shrublands Road\, Berkhamsted\, HP4 3HY\, United Kingdom
CATEGORIES:worship
GEO:51.7618641;-0.5750555
X-APPLE-STRUCTURED-LOCATION;VALUE=URI;X-ADDRESS=All Saints’ Church Shrublands Road Berkhamsted HP4 3HY United Kingdom;X-APPLE-RADIUS=500;X-TITLE=Shrublands Road:geo:-0.5750555,51.7618641
END:VEVENT
BEGIN:VEVENT
DTSTART;TZID=Europe/London:20280919T093000
DTEND;TZID=Europe/London:20280919T100000
DTSTAMP:20260424T025341
CREATED:20241107T184220Z
LAST-MODIFIED:20241107T184220Z
UID:10001904-1852968600-1852970400@www.allsaintsberkhamsted.org.uk
SUMMARY:Eucharist
DESCRIPTION:
URL:https://www.allsaintsberkhamsted.org.uk/event/eucharist/2028-09-19/
LOCATION:All Saints’ Church\, Shrublands Road\, Berkhamsted\, HP4 3HY\, United Kingdom
CATEGORIES:worship
GEO:51.7618641;-0.5750555
X-APPLE-STRUCTURED-LOCATION;VALUE=URI;X-ADDRESS=All Saints’ Church Shrublands Road Berkhamsted HP4 3HY United Kingdom;X-APPLE-RADIUS=500;X-TITLE=Shrublands Road:geo:-0.5750555,51.7618641
END:VEVENT
BEGIN:VEVENT
DTSTART;TZID=Europe/London:20280921T204500
DTEND;TZID=Europe/London:20280921T211500
DTSTAMP:20260424T025341
CREATED:20250402T135535Z
LAST-MODIFIED:20250402T135535Z
UID:10002084-1853181900-1853183700@www.allsaintsberkhamsted.org.uk
SUMMARY:Compline (Night Prayer)
DESCRIPTION:On Zoom only\,  not in church – fortnightly on Thursday evenings \nThe Zoom link will be available on our homepage
URL:https://www.allsaintsberkhamsted.org.uk/event/compline-night-prayer-5/2028-09-21/
LOCATION:All Saints’ Church\, Shrublands Road\, Berkhamsted\, HP4 3HY\, United Kingdom
CATEGORIES:worship
GEO:51.7618641;-0.5750555
X-APPLE-STRUCTURED-LOCATION;VALUE=URI;X-ADDRESS=All Saints’ Church Shrublands Road Berkhamsted HP4 3HY United Kingdom;X-APPLE-RADIUS=500;X-TITLE=Shrublands Road:geo:-0.5750555,51.7618641
END:VEVENT
BEGIN:VEVENT
DTSTART;TZID=Europe/London:20280922T160000
DTEND;TZID=Europe/London:20280922T161500
DTSTAMP:20260424T025341
CREATED:20221129T125503Z
LAST-MODIFIED:20240518T190542Z
UID:10001538-1853251200-1853252100@www.allsaintsberkhamsted.org.uk
SUMMARY:Evening Prayer
DESCRIPTION:with Tracy Robinson
URL:https://www.allsaintsberkhamsted.org.uk/event/evening-prayer-2/2028-09-22/
LOCATION:All Saints’ Church\, Shrublands Road\, Berkhamsted\, HP4 3HY\, United Kingdom
CATEGORIES:worship
GEO:51.7618641;-0.5750555
X-APPLE-STRUCTURED-LOCATION;VALUE=URI;X-ADDRESS=All Saints’ Church Shrublands Road Berkhamsted HP4 3HY United Kingdom;X-APPLE-RADIUS=500;X-TITLE=Shrublands Road:geo:-0.5750555,51.7618641
END:VEVENT
BEGIN:VEVENT
DTSTART;TZID=Europe/London:20280926T090000
DTEND;TZID=Europe/London:20280926T091500
DTSTAMP:20260424T025341
CREATED:20230619T152758Z
LAST-MODIFIED:20240518T190334Z
UID:10001613-1853571600-1853572500@www.allsaintsberkhamsted.org.uk
SUMMARY:Morning Prayer
DESCRIPTION:with Tracy Robinson
URL:https://www.allsaintsberkhamsted.org.uk/event/morning-prayer-3-2/2028-09-26/
LOCATION:All Saints’ Church\, Shrublands Road\, Berkhamsted\, HP4 3HY\, United Kingdom
CATEGORIES:worship
GEO:51.7618641;-0.5750555
X-APPLE-STRUCTURED-LOCATION;VALUE=URI;X-ADDRESS=All Saints’ Church Shrublands Road Berkhamsted HP4 3HY United Kingdom;X-APPLE-RADIUS=500;X-TITLE=Shrublands Road:geo:-0.5750555,51.7618641
END:VEVENT
BEGIN:VEVENT
DTSTART;TZID=Europe/London:20280926T093000
DTEND;TZID=Europe/London:20280926T100000
DTSTAMP:20260424T025341
CREATED:20241107T184220Z
LAST-MODIFIED:20241107T184220Z
UID:10001905-1853573400-1853575200@www.allsaintsberkhamsted.org.uk
SUMMARY:Eucharist
DESCRIPTION:
URL:https://www.allsaintsberkhamsted.org.uk/event/eucharist/2028-09-26/
LOCATION:All Saints’ Church\, Shrublands Road\, Berkhamsted\, HP4 3HY\, United Kingdom
CATEGORIES:worship
GEO:51.7618641;-0.5750555
X-APPLE-STRUCTURED-LOCATION;VALUE=URI;X-ADDRESS=All Saints’ Church Shrublands Road Berkhamsted HP4 3HY United Kingdom;X-APPLE-RADIUS=500;X-TITLE=Shrublands Road:geo:-0.5750555,51.7618641
END:VEVENT
BEGIN:VEVENT
DTSTART;TZID=Europe/London:20280929T160000
DTEND;TZID=Europe/London:20280929T161500
DTSTAMP:20260424T025341
CREATED:20221129T125503Z
LAST-MODIFIED:20240518T190542Z
UID:10001539-1853856000-1853856900@www.allsaintsberkhamsted.org.uk
SUMMARY:Evening Prayer
DESCRIPTION:with Tracy Robinson
URL:https://www.allsaintsberkhamsted.org.uk/event/evening-prayer-2/2028-09-29/
LOCATION:All Saints’ Church\, Shrublands Road\, Berkhamsted\, HP4 3HY\, United Kingdom
CATEGORIES:worship
GEO:51.7618641;-0.5750555
X-APPLE-STRUCTURED-LOCATION;VALUE=URI;X-ADDRESS=All Saints’ Church Shrublands Road Berkhamsted HP4 3HY United Kingdom;X-APPLE-RADIUS=500;X-TITLE=Shrublands Road:geo:-0.5750555,51.7618641
END:VEVENT
END:VCALENDAR