BEGIN:VCALENDAR
VERSION:2.0
PRODID:-//All Saints Berkhamsted - ECPv6.15.20//NONSGML v1.0//EN
CALSCALE:GREGORIAN
METHOD:PUBLISH
X-ORIGINAL-URL:https://www.allsaintsberkhamsted.org.uk
X-WR-CALDESC:Events for All Saints Berkhamsted
REFRESH-INTERVAL;VALUE=DURATION:PT1H
X-Robots-Tag:noindex
X-PUBLISHED-TTL:PT1H
BEGIN:VTIMEZONE
TZID:Europe/London
BEGIN:DAYLIGHT
TZOFFSETFROM:+0000
TZOFFSETTO:+0100
TZNAME:BST
DTSTART:20240331T010000
END:DAYLIGHT
BEGIN:STANDARD
TZOFFSETFROM:+0100
TZOFFSETTO:+0000
TZNAME:GMT
DTSTART:20241027T010000
END:STANDARD
BEGIN:DAYLIGHT
TZOFFSETFROM:+0000
TZOFFSETTO:+0100
TZNAME:BST
DTSTART:20250330T010000
END:DAYLIGHT
BEGIN:STANDARD
TZOFFSETFROM:+0100
TZOFFSETTO:+0000
TZNAME:GMT
DTSTART:20251026T010000
END:STANDARD
BEGIN:DAYLIGHT
TZOFFSETFROM:+0000
TZOFFSETTO:+0100
TZNAME:BST
DTSTART:20260329T010000
END:DAYLIGHT
BEGIN:STANDARD
TZOFFSETFROM:+0100
TZOFFSETTO:+0000
TZNAME:GMT
DTSTART:20261025T010000
END:STANDARD
END:VTIMEZONE
BEGIN:VEVENT
DTSTART;TZID=Europe/London:20250803T094500
DTEND;TZID=Europe/London:20250803T104500
DTSTAMP:20260422T195820
CREATED:20250430T165702Z
LAST-MODIFIED:20250430T165702Z
UID:10002134-1754214300-1754217900@www.allsaintsberkhamsted.org.uk
SUMMARY:Morning Worship
DESCRIPTION:led by one or more of our Worship Leaders
URL:https://www.allsaintsberkhamsted.org.uk/event/morning-worship-29/
LOCATION:All Saints’ Church\, Shrublands Road\, Berkhamsted\, HP4 3HY\, United Kingdom
CATEGORIES:worship
GEO:51.7618641;-0.5750555
X-APPLE-STRUCTURED-LOCATION;VALUE=URI;X-ADDRESS=All Saints’ Church Shrublands Road Berkhamsted HP4 3HY United Kingdom;X-APPLE-RADIUS=500;X-TITLE=Shrublands Road:geo:-0.5750555,51.7618641
END:VEVENT
BEGIN:VEVENT
DTSTART;TZID=Europe/London:20250803T143000
DTEND;TZID=Europe/London:20250803T160000
DTSTAMP:20260422T195820
CREATED:20250609T175239Z
LAST-MODIFIED:20250609T175239Z
UID:10002143-1754231400-1754236800@www.allsaintsberkhamsted.org.uk
SUMMARY:Organ Recital
DESCRIPTION:The third in our Sarah Garrett Organ Recital Series – with Charles Wooler \nSee also the poster on our homepage \n 
URL:https://www.allsaintsberkhamsted.org.uk/event/organ-recital-3/
LOCATION:All Saints’ Church\, Shrublands Road\, Berkhamsted\, HP4 3HY\, United Kingdom
CATEGORIES:concert
GEO:51.7618641;-0.5750555
X-APPLE-STRUCTURED-LOCATION;VALUE=URI;X-ADDRESS=All Saints’ Church Shrublands Road Berkhamsted HP4 3HY United Kingdom;X-APPLE-RADIUS=500;X-TITLE=Shrublands Road:geo:-0.5750555,51.7618641
END:VEVENT
BEGIN:VEVENT
DTSTART;TZID=Europe/London:20250805T090000
DTEND;TZID=Europe/London:20250805T091500
DTSTAMP:20260422T195820
CREATED:20230619T152758Z
LAST-MODIFIED:20240518T190334Z
UID:10001126-1754384400-1754385300@www.allsaintsberkhamsted.org.uk
SUMMARY:Morning Prayer
DESCRIPTION:with Tracy Robinson
URL:https://www.allsaintsberkhamsted.org.uk/event/morning-prayer-3-2/2025-08-05/
LOCATION:All Saints’ Church\, Shrublands Road\, Berkhamsted\, HP4 3HY\, United Kingdom
CATEGORIES:worship
GEO:51.7618641;-0.5750555
X-APPLE-STRUCTURED-LOCATION;VALUE=URI;X-ADDRESS=All Saints’ Church Shrublands Road Berkhamsted HP4 3HY United Kingdom;X-APPLE-RADIUS=500;X-TITLE=Shrublands Road:geo:-0.5750555,51.7618641
END:VEVENT
BEGIN:VEVENT
DTSTART;TZID=Europe/London:20250805T093000
DTEND;TZID=Europe/London:20250805T100000
DTSTAMP:20260422T195820
CREATED:20241107T184220Z
LAST-MODIFIED:20241107T184220Z
UID:10001741-1754386200-1754388000@www.allsaintsberkhamsted.org.uk
SUMMARY:Eucharist
DESCRIPTION:
URL:https://www.allsaintsberkhamsted.org.uk/event/eucharist/2025-08-05/
LOCATION:All Saints’ Church\, Shrublands Road\, Berkhamsted\, HP4 3HY\, United Kingdom
CATEGORIES:worship
GEO:51.7618641;-0.5750555
X-APPLE-STRUCTURED-LOCATION;VALUE=URI;X-ADDRESS=All Saints’ Church Shrublands Road Berkhamsted HP4 3HY United Kingdom;X-APPLE-RADIUS=500;X-TITLE=Shrublands Road:geo:-0.5750555,51.7618641
END:VEVENT
BEGIN:VEVENT
DTSTART;TZID=Europe/London:20250808T160000
DTEND;TZID=Europe/London:20250808T161500
DTSTAMP:20260422T195820
CREATED:20221129T125503Z
LAST-MODIFIED:20240518T190542Z
UID:10001311-1754668800-1754669700@www.allsaintsberkhamsted.org.uk
SUMMARY:Evening Prayer
DESCRIPTION:with Tracy Robinson
URL:https://www.allsaintsberkhamsted.org.uk/event/evening-prayer-2/2025-08-08/
LOCATION:All Saints’ Church\, Shrublands Road\, Berkhamsted\, HP4 3HY\, United Kingdom
CATEGORIES:worship
GEO:51.7618641;-0.5750555
X-APPLE-STRUCTURED-LOCATION;VALUE=URI;X-ADDRESS=All Saints’ Church Shrublands Road Berkhamsted HP4 3HY United Kingdom;X-APPLE-RADIUS=500;X-TITLE=Shrublands Road:geo:-0.5750555,51.7618641
END:VEVENT
BEGIN:VEVENT
DTSTART;TZID=Europe/London:20250810T094500
DTEND;TZID=Europe/London:20250810T104500
DTSTAMP:20260422T195820
CREATED:20250430T165824Z
LAST-MODIFIED:20250430T165824Z
UID:10002135-1754819100-1754822700@www.allsaintsberkhamsted.org.uk
SUMMARY:Holy Communion
DESCRIPTION:led by Revd John Kirkby
URL:https://www.allsaintsberkhamsted.org.uk/event/holy-communion-38/
LOCATION:All Saints’ Church\, Shrublands Road\, Berkhamsted\, HP4 3HY\, United Kingdom
CATEGORIES:worship
GEO:51.7618641;-0.5750555
X-APPLE-STRUCTURED-LOCATION;VALUE=URI;X-ADDRESS=All Saints’ Church Shrublands Road Berkhamsted HP4 3HY United Kingdom;X-APPLE-RADIUS=500;X-TITLE=Shrublands Road:geo:-0.5750555,51.7618641
END:VEVENT
BEGIN:VEVENT
DTSTART;TZID=Europe/London:20250812T090000
DTEND;TZID=Europe/London:20250812T091500
DTSTAMP:20260422T195820
CREATED:20230619T152758Z
LAST-MODIFIED:20240518T190334Z
UID:10001127-1754989200-1754990100@www.allsaintsberkhamsted.org.uk
SUMMARY:Morning Prayer
DESCRIPTION:with Tracy Robinson
URL:https://www.allsaintsberkhamsted.org.uk/event/morning-prayer-3-2/2025-08-12/
LOCATION:All Saints’ Church\, Shrublands Road\, Berkhamsted\, HP4 3HY\, United Kingdom
CATEGORIES:worship
GEO:51.7618641;-0.5750555
X-APPLE-STRUCTURED-LOCATION;VALUE=URI;X-ADDRESS=All Saints’ Church Shrublands Road Berkhamsted HP4 3HY United Kingdom;X-APPLE-RADIUS=500;X-TITLE=Shrublands Road:geo:-0.5750555,51.7618641
END:VEVENT
BEGIN:VEVENT
DTSTART;TZID=Europe/London:20250812T093000
DTEND;TZID=Europe/London:20250812T100000
DTSTAMP:20260422T195820
CREATED:20241107T184220Z
LAST-MODIFIED:20241107T184220Z
UID:10001742-1754991000-1754992800@www.allsaintsberkhamsted.org.uk
SUMMARY:Eucharist
DESCRIPTION:
URL:https://www.allsaintsberkhamsted.org.uk/event/eucharist/2025-08-12/
LOCATION:All Saints’ Church\, Shrublands Road\, Berkhamsted\, HP4 3HY\, United Kingdom
CATEGORIES:worship
GEO:51.7618641;-0.5750555
X-APPLE-STRUCTURED-LOCATION;VALUE=URI;X-ADDRESS=All Saints’ Church Shrublands Road Berkhamsted HP4 3HY United Kingdom;X-APPLE-RADIUS=500;X-TITLE=Shrublands Road:geo:-0.5750555,51.7618641
END:VEVENT
BEGIN:VEVENT
DTSTART;TZID=Europe/London:20250814T204500
DTEND;TZID=Europe/London:20250814T211500
DTSTAMP:20260422T195820
CREATED:20250402T135535Z
LAST-MODIFIED:20250402T135535Z
UID:10002003-1755204300-1755206100@www.allsaintsberkhamsted.org.uk
SUMMARY:Compline (Night Prayer)
DESCRIPTION:On Zoom only\,  not in church – fortnightly on Thursday evenings \nThe Zoom link will be available on our homepage
URL:https://www.allsaintsberkhamsted.org.uk/event/compline-night-prayer-5/2025-08-14/
LOCATION:All Saints’ Church\, Shrublands Road\, Berkhamsted\, HP4 3HY\, United Kingdom
CATEGORIES:worship
GEO:51.7618641;-0.5750555
X-APPLE-STRUCTURED-LOCATION;VALUE=URI;X-ADDRESS=All Saints’ Church Shrublands Road Berkhamsted HP4 3HY United Kingdom;X-APPLE-RADIUS=500;X-TITLE=Shrublands Road:geo:-0.5750555,51.7618641
END:VEVENT
BEGIN:VEVENT
DTSTART;TZID=Europe/London:20250815T160000
DTEND;TZID=Europe/London:20250815T161500
DTSTAMP:20260422T195820
CREATED:20221129T125503Z
LAST-MODIFIED:20240518T190542Z
UID:10001312-1755273600-1755274500@www.allsaintsberkhamsted.org.uk
SUMMARY:Evening Prayer
DESCRIPTION:with Tracy Robinson
URL:https://www.allsaintsberkhamsted.org.uk/event/evening-prayer-2/2025-08-15/
LOCATION:All Saints’ Church\, Shrublands Road\, Berkhamsted\, HP4 3HY\, United Kingdom
CATEGORIES:worship
GEO:51.7618641;-0.5750555
X-APPLE-STRUCTURED-LOCATION;VALUE=URI;X-ADDRESS=All Saints’ Church Shrublands Road Berkhamsted HP4 3HY United Kingdom;X-APPLE-RADIUS=500;X-TITLE=Shrublands Road:geo:-0.5750555,51.7618641
END:VEVENT
BEGIN:VEVENT
DTSTART;TZID=Europe/London:20250817T094500
DTEND;TZID=Europe/London:20250817T104500
DTSTAMP:20260422T195820
CREATED:20250430T170132Z
LAST-MODIFIED:20250511T164055Z
UID:10002137-1755423900-1755427500@www.allsaintsberkhamsted.org.uk
SUMMARY:Morning Worship
DESCRIPTION:led by David White
URL:https://www.allsaintsberkhamsted.org.uk/event/morning-worship-30/
LOCATION:All Saints’ Church\, Shrublands Road\, Berkhamsted\, HP4 3HY\, United Kingdom
CATEGORIES:worship
GEO:51.7618641;-0.5750555
X-APPLE-STRUCTURED-LOCATION;VALUE=URI;X-ADDRESS=All Saints’ Church Shrublands Road Berkhamsted HP4 3HY United Kingdom;X-APPLE-RADIUS=500;X-TITLE=Shrublands Road:geo:-0.5750555,51.7618641
END:VEVENT
BEGIN:VEVENT
DTSTART;TZID=Europe/London:20250819T090000
DTEND;TZID=Europe/London:20250819T091500
DTSTAMP:20260422T195820
CREATED:20230619T152758Z
LAST-MODIFIED:20240518T190334Z
UID:10001128-1755594000-1755594900@www.allsaintsberkhamsted.org.uk
SUMMARY:Morning Prayer
DESCRIPTION:with Tracy Robinson
URL:https://www.allsaintsberkhamsted.org.uk/event/morning-prayer-3-2/2025-08-19/
LOCATION:All Saints’ Church\, Shrublands Road\, Berkhamsted\, HP4 3HY\, United Kingdom
CATEGORIES:worship
GEO:51.7618641;-0.5750555
X-APPLE-STRUCTURED-LOCATION;VALUE=URI;X-ADDRESS=All Saints’ Church Shrublands Road Berkhamsted HP4 3HY United Kingdom;X-APPLE-RADIUS=500;X-TITLE=Shrublands Road:geo:-0.5750555,51.7618641
END:VEVENT
BEGIN:VEVENT
DTSTART;TZID=Europe/London:20250819T093000
DTEND;TZID=Europe/London:20250819T100000
DTSTAMP:20260422T195820
CREATED:20241107T184220Z
LAST-MODIFIED:20241107T184220Z
UID:10001743-1755595800-1755597600@www.allsaintsberkhamsted.org.uk
SUMMARY:Eucharist
DESCRIPTION:
URL:https://www.allsaintsberkhamsted.org.uk/event/eucharist/2025-08-19/
LOCATION:All Saints’ Church\, Shrublands Road\, Berkhamsted\, HP4 3HY\, United Kingdom
CATEGORIES:worship
GEO:51.7618641;-0.5750555
X-APPLE-STRUCTURED-LOCATION;VALUE=URI;X-ADDRESS=All Saints’ Church Shrublands Road Berkhamsted HP4 3HY United Kingdom;X-APPLE-RADIUS=500;X-TITLE=Shrublands Road:geo:-0.5750555,51.7618641
END:VEVENT
BEGIN:VEVENT
DTSTART;TZID=Europe/London:20250822T160000
DTEND;TZID=Europe/London:20250822T161500
DTSTAMP:20260422T195820
CREATED:20221129T125503Z
LAST-MODIFIED:20240518T190542Z
UID:10001313-1755878400-1755879300@www.allsaintsberkhamsted.org.uk
SUMMARY:Evening Prayer
DESCRIPTION:with Tracy Robinson
URL:https://www.allsaintsberkhamsted.org.uk/event/evening-prayer-2/2025-08-22/
LOCATION:All Saints’ Church\, Shrublands Road\, Berkhamsted\, HP4 3HY\, United Kingdom
CATEGORIES:worship
GEO:51.7618641;-0.5750555
X-APPLE-STRUCTURED-LOCATION;VALUE=URI;X-ADDRESS=All Saints’ Church Shrublands Road Berkhamsted HP4 3HY United Kingdom;X-APPLE-RADIUS=500;X-TITLE=Shrublands Road:geo:-0.5750555,51.7618641
END:VEVENT
BEGIN:VEVENT
DTSTART;TZID=Europe/London:20250824T094500
DTEND;TZID=Europe/London:20250824T104500
DTSTAMP:20260422T195820
CREATED:20250430T170303Z
LAST-MODIFIED:20250430T170303Z
UID:10002138-1756028700-1756032300@www.allsaintsberkhamsted.org.uk
SUMMARY:Holy Communion
DESCRIPTION:led by Revd Dr Sheryl Anderson
URL:https://www.allsaintsberkhamsted.org.uk/event/holy-communion-39/
LOCATION:All Saints’ Church\, Shrublands Road\, Berkhamsted\, HP4 3HY\, United Kingdom
CATEGORIES:worship
GEO:51.7618641;-0.5750555
X-APPLE-STRUCTURED-LOCATION;VALUE=URI;X-ADDRESS=All Saints’ Church Shrublands Road Berkhamsted HP4 3HY United Kingdom;X-APPLE-RADIUS=500;X-TITLE=Shrublands Road:geo:-0.5750555,51.7618641
END:VEVENT
BEGIN:VEVENT
DTSTART;TZID=Europe/London:20250826T090000
DTEND;TZID=Europe/London:20250826T091500
DTSTAMP:20260422T195820
CREATED:20230619T152758Z
LAST-MODIFIED:20240518T190334Z
UID:10001129-1756198800-1756199700@www.allsaintsberkhamsted.org.uk
SUMMARY:Morning Prayer
DESCRIPTION:with Tracy Robinson
URL:https://www.allsaintsberkhamsted.org.uk/event/morning-prayer-3-2/2025-08-26/
LOCATION:All Saints’ Church\, Shrublands Road\, Berkhamsted\, HP4 3HY\, United Kingdom
CATEGORIES:worship
GEO:51.7618641;-0.5750555
X-APPLE-STRUCTURED-LOCATION;VALUE=URI;X-ADDRESS=All Saints’ Church Shrublands Road Berkhamsted HP4 3HY United Kingdom;X-APPLE-RADIUS=500;X-TITLE=Shrublands Road:geo:-0.5750555,51.7618641
END:VEVENT
BEGIN:VEVENT
DTSTART;TZID=Europe/London:20250826T093000
DTEND;TZID=Europe/London:20250826T100000
DTSTAMP:20260422T195820
CREATED:20241107T184220Z
LAST-MODIFIED:20241107T184220Z
UID:10001744-1756200600-1756202400@www.allsaintsberkhamsted.org.uk
SUMMARY:Eucharist
DESCRIPTION:
URL:https://www.allsaintsberkhamsted.org.uk/event/eucharist/2025-08-26/
LOCATION:All Saints’ Church\, Shrublands Road\, Berkhamsted\, HP4 3HY\, United Kingdom
CATEGORIES:worship
GEO:51.7618641;-0.5750555
X-APPLE-STRUCTURED-LOCATION;VALUE=URI;X-ADDRESS=All Saints’ Church Shrublands Road Berkhamsted HP4 3HY United Kingdom;X-APPLE-RADIUS=500;X-TITLE=Shrublands Road:geo:-0.5750555,51.7618641
END:VEVENT
BEGIN:VEVENT
DTSTART;TZID=Europe/London:20250828T204500
DTEND;TZID=Europe/London:20250828T211500
DTSTAMP:20260422T195820
CREATED:20250402T135535Z
LAST-MODIFIED:20250402T135535Z
UID:10002004-1756413900-1756415700@www.allsaintsberkhamsted.org.uk
SUMMARY:Compline (Night Prayer)
DESCRIPTION:On Zoom only\,  not in church – fortnightly on Thursday evenings \nThe Zoom link will be available on our homepage
URL:https://www.allsaintsberkhamsted.org.uk/event/compline-night-prayer-5/2025-08-28/
LOCATION:All Saints’ Church\, Shrublands Road\, Berkhamsted\, HP4 3HY\, United Kingdom
CATEGORIES:worship
GEO:51.7618641;-0.5750555
X-APPLE-STRUCTURED-LOCATION;VALUE=URI;X-ADDRESS=All Saints’ Church Shrublands Road Berkhamsted HP4 3HY United Kingdom;X-APPLE-RADIUS=500;X-TITLE=Shrublands Road:geo:-0.5750555,51.7618641
END:VEVENT
BEGIN:VEVENT
DTSTART;TZID=Europe/London:20250829T160000
DTEND;TZID=Europe/London:20250829T161500
DTSTAMP:20260422T195821
CREATED:20221129T125503Z
LAST-MODIFIED:20240518T190542Z
UID:10001314-1756483200-1756484100@www.allsaintsberkhamsted.org.uk
SUMMARY:Evening Prayer
DESCRIPTION:with Tracy Robinson
URL:https://www.allsaintsberkhamsted.org.uk/event/evening-prayer-2/2025-08-29/
LOCATION:All Saints’ Church\, Shrublands Road\, Berkhamsted\, HP4 3HY\, United Kingdom
CATEGORIES:worship
GEO:51.7618641;-0.5750555
X-APPLE-STRUCTURED-LOCATION;VALUE=URI;X-ADDRESS=All Saints’ Church Shrublands Road Berkhamsted HP4 3HY United Kingdom;X-APPLE-RADIUS=500;X-TITLE=Shrublands Road:geo:-0.5750555,51.7618641
END:VEVENT
BEGIN:VEVENT
DTSTART;TZID=Europe/London:20250831T094500
DTEND;TZID=Europe/London:20250831T104500
DTSTAMP:20260422T195821
CREATED:20250430T170426Z
LAST-MODIFIED:20250430T170426Z
UID:10002139-1756633500-1756637100@www.allsaintsberkhamsted.org.uk
SUMMARY:Morning Worship
DESCRIPTION:led by Richard Hackworth
URL:https://www.allsaintsberkhamsted.org.uk/event/morning-worship-31/
LOCATION:All Saints’ Church\, Shrublands Road\, Berkhamsted\, HP4 3HY\, United Kingdom
CATEGORIES:worship
GEO:51.7618641;-0.5750555
X-APPLE-STRUCTURED-LOCATION;VALUE=URI;X-ADDRESS=All Saints’ Church Shrublands Road Berkhamsted HP4 3HY United Kingdom;X-APPLE-RADIUS=500;X-TITLE=Shrublands Road:geo:-0.5750555,51.7618641
END:VEVENT
BEGIN:VEVENT
DTSTART;TZID=Europe/London:20250831T150000
DTEND;TZID=Europe/London:20250831T160000
DTSTAMP:20260422T195821
CREATED:20250430T170920Z
LAST-MODIFIED:20250808T101038Z
UID:10002140-1756652400-1756656000@www.allsaintsberkhamsted.org.uk
SUMMARY:Circuit Welcome Service
DESCRIPTION:for Revd Caroline Wickens\, our new Superintendent Minister (with pastoral responsibility for All Saints’ and for St Martha’s) \nPresiding Ministers: \nRevd Dr David Chapman\, Methodist District Chair\, \nRt Revd Dr Jane Mainwaring\, Bishop of Hertford
URL:https://www.allsaintsberkhamsted.org.uk/event/circuit-welcome-service-2/
LOCATION:All Saints’ Church\, Shrublands Road\, Berkhamsted\, HP4 3HY\, United Kingdom
CATEGORIES:worship
GEO:51.7618641;-0.5750555
X-APPLE-STRUCTURED-LOCATION;VALUE=URI;X-ADDRESS=All Saints’ Church Shrublands Road Berkhamsted HP4 3HY United Kingdom;X-APPLE-RADIUS=500;X-TITLE=Shrublands Road:geo:-0.5750555,51.7618641
END:VEVENT
BEGIN:VEVENT
DTSTART;TZID=Europe/London:20250902T090000
DTEND;TZID=Europe/London:20250902T091500
DTSTAMP:20260422T195821
CREATED:20230619T152758Z
LAST-MODIFIED:20240518T190334Z
UID:10001130-1756803600-1756804500@www.allsaintsberkhamsted.org.uk
SUMMARY:Morning Prayer
DESCRIPTION:with Tracy Robinson
URL:https://www.allsaintsberkhamsted.org.uk/event/morning-prayer-3-2/2025-09-02/
LOCATION:All Saints’ Church\, Shrublands Road\, Berkhamsted\, HP4 3HY\, United Kingdom
CATEGORIES:worship
GEO:51.7618641;-0.5750555
X-APPLE-STRUCTURED-LOCATION;VALUE=URI;X-ADDRESS=All Saints’ Church Shrublands Road Berkhamsted HP4 3HY United Kingdom;X-APPLE-RADIUS=500;X-TITLE=Shrublands Road:geo:-0.5750555,51.7618641
END:VEVENT
BEGIN:VEVENT
DTSTART;TZID=Europe/London:20250902T093000
DTEND;TZID=Europe/London:20250902T100000
DTSTAMP:20260422T195821
CREATED:20241107T184220Z
LAST-MODIFIED:20241107T184220Z
UID:10001745-1756805400-1756807200@www.allsaintsberkhamsted.org.uk
SUMMARY:Eucharist
DESCRIPTION:
URL:https://www.allsaintsberkhamsted.org.uk/event/eucharist/2025-09-02/
LOCATION:All Saints’ Church\, Shrublands Road\, Berkhamsted\, HP4 3HY\, United Kingdom
CATEGORIES:worship
GEO:51.7618641;-0.5750555
X-APPLE-STRUCTURED-LOCATION;VALUE=URI;X-ADDRESS=All Saints’ Church Shrublands Road Berkhamsted HP4 3HY United Kingdom;X-APPLE-RADIUS=500;X-TITLE=Shrublands Road:geo:-0.5750555,51.7618641
END:VEVENT
BEGIN:VEVENT
DTSTART;TZID=Europe/London:20250905T160000
DTEND;TZID=Europe/London:20250905T161500
DTSTAMP:20260422T195821
CREATED:20221129T125503Z
LAST-MODIFIED:20240518T190542Z
UID:10001315-1757088000-1757088900@www.allsaintsberkhamsted.org.uk
SUMMARY:Evening Prayer
DESCRIPTION:with Tracy Robinson
URL:https://www.allsaintsberkhamsted.org.uk/event/evening-prayer-2/2025-09-05/
LOCATION:All Saints’ Church\, Shrublands Road\, Berkhamsted\, HP4 3HY\, United Kingdom
CATEGORIES:worship
GEO:51.7618641;-0.5750555
X-APPLE-STRUCTURED-LOCATION;VALUE=URI;X-ADDRESS=All Saints’ Church Shrublands Road Berkhamsted HP4 3HY United Kingdom;X-APPLE-RADIUS=500;X-TITLE=Shrublands Road:geo:-0.5750555,51.7618641
END:VEVENT
BEGIN:VEVENT
DTSTART;TZID=Europe/London:20250907T094500
DTEND;TZID=Europe/London:20250907T104500
DTSTAMP:20260422T195821
CREATED:20250804T102827Z
LAST-MODIFIED:20250804T102827Z
UID:10002145-1757238300-1757241900@www.allsaintsberkhamsted.org.uk
SUMMARY:Morning Worship
DESCRIPTION:led by Heather Tisbury
URL:https://www.allsaintsberkhamsted.org.uk/event/morning-worship-32/
LOCATION:All Saints’ Church\, Shrublands Road\, Berkhamsted\, HP4 3HY\, United Kingdom
CATEGORIES:worship
GEO:51.7618641;-0.5750555
X-APPLE-STRUCTURED-LOCATION;VALUE=URI;X-ADDRESS=All Saints’ Church Shrublands Road Berkhamsted HP4 3HY United Kingdom;X-APPLE-RADIUS=500;X-TITLE=Shrublands Road:geo:-0.5750555,51.7618641
END:VEVENT
BEGIN:VEVENT
DTSTART;TZID=Europe/London:20250907T143000
DTEND;TZID=Europe/London:20250907T160000
DTSTAMP:20260422T195821
CREATED:20250609T175423Z
LAST-MODIFIED:20250609T175423Z
UID:10002144-1757255400-1757260800@www.allsaintsberkhamsted.org.uk
SUMMARY:Organ Recital
DESCRIPTION:The fourth and last in our Sarah Garrett Organ Recital Series – with Tom Winpenny \nSee also the poster on our homepage
URL:https://www.allsaintsberkhamsted.org.uk/event/organ-recital-4/
LOCATION:All Saints’ Church\, Shrublands Road\, Berkhamsted\, HP4 3HY\, United Kingdom
CATEGORIES:concert
GEO:51.7618641;-0.5750555
X-APPLE-STRUCTURED-LOCATION;VALUE=URI;X-ADDRESS=All Saints’ Church Shrublands Road Berkhamsted HP4 3HY United Kingdom;X-APPLE-RADIUS=500;X-TITLE=Shrublands Road:geo:-0.5750555,51.7618641
END:VEVENT
BEGIN:VEVENT
DTSTART;TZID=Europe/London:20250909T090000
DTEND;TZID=Europe/London:20250909T091500
DTSTAMP:20260422T195821
CREATED:20230619T152758Z
LAST-MODIFIED:20240518T190334Z
UID:10001131-1757408400-1757409300@www.allsaintsberkhamsted.org.uk
SUMMARY:Morning Prayer
DESCRIPTION:with Tracy Robinson
URL:https://www.allsaintsberkhamsted.org.uk/event/morning-prayer-3-2/2025-09-09/
LOCATION:All Saints’ Church\, Shrublands Road\, Berkhamsted\, HP4 3HY\, United Kingdom
CATEGORIES:worship
GEO:51.7618641;-0.5750555
X-APPLE-STRUCTURED-LOCATION;VALUE=URI;X-ADDRESS=All Saints’ Church Shrublands Road Berkhamsted HP4 3HY United Kingdom;X-APPLE-RADIUS=500;X-TITLE=Shrublands Road:geo:-0.5750555,51.7618641
END:VEVENT
BEGIN:VEVENT
DTSTART;TZID=Europe/London:20250909T093000
DTEND;TZID=Europe/London:20250909T100000
DTSTAMP:20260422T195821
CREATED:20241107T184220Z
LAST-MODIFIED:20241107T184220Z
UID:10001746-1757410200-1757412000@www.allsaintsberkhamsted.org.uk
SUMMARY:Eucharist
DESCRIPTION:
URL:https://www.allsaintsberkhamsted.org.uk/event/eucharist/2025-09-09/
LOCATION:All Saints’ Church\, Shrublands Road\, Berkhamsted\, HP4 3HY\, United Kingdom
CATEGORIES:worship
GEO:51.7618641;-0.5750555
X-APPLE-STRUCTURED-LOCATION;VALUE=URI;X-ADDRESS=All Saints’ Church Shrublands Road Berkhamsted HP4 3HY United Kingdom;X-APPLE-RADIUS=500;X-TITLE=Shrublands Road:geo:-0.5750555,51.7618641
END:VEVENT
BEGIN:VEVENT
DTSTART;TZID=Europe/London:20250911T204500
DTEND;TZID=Europe/London:20250911T211500
DTSTAMP:20260422T195821
CREATED:20250402T135535Z
LAST-MODIFIED:20250402T135535Z
UID:10002005-1757623500-1757625300@www.allsaintsberkhamsted.org.uk
SUMMARY:Compline (Night Prayer)
DESCRIPTION:On Zoom only\,  not in church – fortnightly on Thursday evenings \nThe Zoom link will be available on our homepage
URL:https://www.allsaintsberkhamsted.org.uk/event/compline-night-prayer-5/2025-09-11/
LOCATION:All Saints’ Church\, Shrublands Road\, Berkhamsted\, HP4 3HY\, United Kingdom
CATEGORIES:worship
GEO:51.7618641;-0.5750555
X-APPLE-STRUCTURED-LOCATION;VALUE=URI;X-ADDRESS=All Saints’ Church Shrublands Road Berkhamsted HP4 3HY United Kingdom;X-APPLE-RADIUS=500;X-TITLE=Shrublands Road:geo:-0.5750555,51.7618641
END:VEVENT
BEGIN:VEVENT
DTSTART;TZID=Europe/London:20250912T160000
DTEND;TZID=Europe/London:20250912T161500
DTSTAMP:20260422T195821
CREATED:20221129T125503Z
LAST-MODIFIED:20240518T190542Z
UID:10001316-1757692800-1757693700@www.allsaintsberkhamsted.org.uk
SUMMARY:Evening Prayer
DESCRIPTION:with Tracy Robinson
URL:https://www.allsaintsberkhamsted.org.uk/event/evening-prayer-2/2025-09-12/
LOCATION:All Saints’ Church\, Shrublands Road\, Berkhamsted\, HP4 3HY\, United Kingdom
CATEGORIES:worship
GEO:51.7618641;-0.5750555
X-APPLE-STRUCTURED-LOCATION;VALUE=URI;X-ADDRESS=All Saints’ Church Shrublands Road Berkhamsted HP4 3HY United Kingdom;X-APPLE-RADIUS=500;X-TITLE=Shrublands Road:geo:-0.5750555,51.7618641
END:VEVENT
END:VCALENDAR