BEGIN:VCALENDAR
VERSION:2.0
PRODID:-//All Saints Berkhamsted - ECPv6.15.20//NONSGML v1.0//EN
CALSCALE:GREGORIAN
METHOD:PUBLISH
X-ORIGINAL-URL:https://www.allsaintsberkhamsted.org.uk
X-WR-CALDESC:Events for All Saints Berkhamsted
REFRESH-INTERVAL;VALUE=DURATION:PT1H
X-Robots-Tag:noindex
X-PUBLISHED-TTL:PT1H
BEGIN:VTIMEZONE
TZID:Europe/London
BEGIN:DAYLIGHT
TZOFFSETFROM:+0000
TZOFFSETTO:+0100
TZNAME:BST
DTSTART:20230326T010000
END:DAYLIGHT
BEGIN:STANDARD
TZOFFSETFROM:+0100
TZOFFSETTO:+0000
TZNAME:GMT
DTSTART:20231029T010000
END:STANDARD
BEGIN:DAYLIGHT
TZOFFSETFROM:+0000
TZOFFSETTO:+0100
TZNAME:BST
DTSTART:20240331T010000
END:DAYLIGHT
BEGIN:STANDARD
TZOFFSETFROM:+0100
TZOFFSETTO:+0000
TZNAME:GMT
DTSTART:20241027T010000
END:STANDARD
BEGIN:DAYLIGHT
TZOFFSETFROM:+0000
TZOFFSETTO:+0100
TZNAME:BST
DTSTART:20250330T010000
END:DAYLIGHT
BEGIN:STANDARD
TZOFFSETFROM:+0100
TZOFFSETTO:+0000
TZNAME:GMT
DTSTART:20251026T010000
END:STANDARD
END:VTIMEZONE
BEGIN:VEVENT
DTSTART;TZID=Europe/London:20240714T160000
DTEND;TZID=Europe/London:20240714T173000
DTSTAMP:20260421T162623
CREATED:20240518T180928Z
LAST-MODIFIED:20240703T105012Z
UID:10001586-1720972800-1720978200@www.allsaintsberkhamsted.org.uk
SUMMARY:Messy Church
DESCRIPTION:led by Revd Rachael Hawkins and the Messy Church Team
URL:https://www.allsaintsberkhamsted.org.uk/event/messy-church-28/
CATEGORIES:worship
END:VEVENT
BEGIN:VEVENT
DTSTART;TZID=Europe/London:20240718T204500
DTEND;TZID=Europe/London:20240718T211500
DTSTAMP:20260421T162623
CREATED:20230825T092109Z
LAST-MODIFIED:20230825T092109Z
UID:10001500-1721335500-1721337300@www.allsaintsberkhamsted.org.uk
SUMMARY:Compline/ Night Prayer
DESCRIPTION:On Zoom only\, not in church \nThe Zoom link will be on our homepage
URL:https://www.allsaintsberkhamsted.org.uk/event/compline-night-prayer-4/2024-07-18/
CATEGORIES:worship
END:VEVENT
BEGIN:VEVENT
DTSTART;TZID=Europe/London:20240721T100000
DTEND;TZID=Europe/London:20240721T230000
DTSTAMP:20260421T162623
CREATED:20240518T181226Z
LAST-MODIFIED:20240518T181226Z
UID:10001588-1721556000-1721602800@www.allsaintsberkhamsted.org.uk
SUMMARY:Morning Worship - Action for Children
DESCRIPTION:led by Audrey Cox
URL:https://www.allsaintsberkhamsted.org.uk/event/morning-worship-action-for-children/
CATEGORIES:worship
END:VEVENT
BEGIN:VEVENT
DTSTART;TZID=Europe/London:20240723T090000
DTEND;TZID=Europe/London:20240723T091500
DTSTAMP:20260421T162623
CREATED:20230619T152758Z
LAST-MODIFIED:20240518T190334Z
UID:10000815-1721725200-1721726100@www.allsaintsberkhamsted.org.uk
SUMMARY:Morning Prayer
DESCRIPTION:with Tracy Robinson
URL:https://www.allsaintsberkhamsted.org.uk/event/morning-prayer-3-2/2024-07-23/
LOCATION:All Saints’ Church\, Shrublands Road\, Berkhamsted\, HP4 3HY\, United Kingdom
CATEGORIES:worship
GEO:51.7618641;-0.5750555
X-APPLE-STRUCTURED-LOCATION;VALUE=URI;X-ADDRESS=All Saints’ Church Shrublands Road Berkhamsted HP4 3HY United Kingdom;X-APPLE-RADIUS=500;X-TITLE=Shrublands Road:geo:-0.5750555,51.7618641
END:VEVENT
BEGIN:VEVENT
DTSTART;TZID=Europe/London:20240726T160000
DTEND;TZID=Europe/London:20240726T161500
DTSTAMP:20260421T162623
CREATED:20221129T125503Z
LAST-MODIFIED:20240518T190542Z
UID:10001024-1722009600-1722010500@www.allsaintsberkhamsted.org.uk
SUMMARY:Evening Prayer
DESCRIPTION:with Tracy Robinson
URL:https://www.allsaintsberkhamsted.org.uk/event/evening-prayer-2/2024-07-26/
LOCATION:All Saints’ Church\, Shrublands Road\, Berkhamsted\, HP4 3HY\, United Kingdom
CATEGORIES:worship
GEO:51.7618641;-0.5750555
X-APPLE-STRUCTURED-LOCATION;VALUE=URI;X-ADDRESS=All Saints’ Church Shrublands Road Berkhamsted HP4 3HY United Kingdom;X-APPLE-RADIUS=500;X-TITLE=Shrublands Road:geo:-0.5750555,51.7618641
END:VEVENT
BEGIN:VEVENT
DTSTART;TZID=Europe/London:20240728T100000
DTEND;TZID=Europe/London:20240728T110000
DTSTAMP:20260421T162623
CREATED:20240518T181502Z
LAST-MODIFIED:20240518T181502Z
UID:10001589-1722160800-1722164400@www.allsaintsberkhamsted.org.uk
SUMMARY:Holy Communion
DESCRIPTION:led by Revd Rachael Hawkins
URL:https://www.allsaintsberkhamsted.org.uk/event/holy-communion-73/
CATEGORIES:worship
END:VEVENT
BEGIN:VEVENT
DTSTART;TZID=Europe/London:20240730T090000
DTEND;TZID=Europe/London:20240730T091500
DTSTAMP:20260421T162623
CREATED:20230619T152758Z
LAST-MODIFIED:20240518T190334Z
UID:10000816-1722330000-1722330900@www.allsaintsberkhamsted.org.uk
SUMMARY:Morning Prayer
DESCRIPTION:with Tracy Robinson
URL:https://www.allsaintsberkhamsted.org.uk/event/morning-prayer-3-2/2024-07-30/
LOCATION:All Saints’ Church\, Shrublands Road\, Berkhamsted\, HP4 3HY\, United Kingdom
CATEGORIES:worship
GEO:51.7618641;-0.5750555
X-APPLE-STRUCTURED-LOCATION;VALUE=URI;X-ADDRESS=All Saints’ Church Shrublands Road Berkhamsted HP4 3HY United Kingdom;X-APPLE-RADIUS=500;X-TITLE=Shrublands Road:geo:-0.5750555,51.7618641
END:VEVENT
BEGIN:VEVENT
DTSTART;TZID=Europe/London:20240801T204500
DTEND;TZID=Europe/London:20240801T211500
DTSTAMP:20260421T162623
CREATED:20230825T092109Z
LAST-MODIFIED:20230825T092109Z
UID:10001501-1722545100-1722546900@www.allsaintsberkhamsted.org.uk
SUMMARY:Compline/ Night Prayer
DESCRIPTION:On Zoom only\, not in church \nThe Zoom link will be on our homepage
URL:https://www.allsaintsberkhamsted.org.uk/event/compline-night-prayer-4/2024-08-01/
CATEGORIES:worship
END:VEVENT
BEGIN:VEVENT
DTSTART;TZID=Europe/London:20240802T160000
DTEND;TZID=Europe/London:20240802T161500
DTSTAMP:20260421T162623
CREATED:20221129T125503Z
LAST-MODIFIED:20240518T190542Z
UID:10001025-1722614400-1722615300@www.allsaintsberkhamsted.org.uk
SUMMARY:Evening Prayer
DESCRIPTION:with Tracy Robinson
URL:https://www.allsaintsberkhamsted.org.uk/event/evening-prayer-2/2024-08-02/
LOCATION:All Saints’ Church\, Shrublands Road\, Berkhamsted\, HP4 3HY\, United Kingdom
CATEGORIES:worship
GEO:51.7618641;-0.5750555
X-APPLE-STRUCTURED-LOCATION;VALUE=URI;X-ADDRESS=All Saints’ Church Shrublands Road Berkhamsted HP4 3HY United Kingdom;X-APPLE-RADIUS=500;X-TITLE=Shrublands Road:geo:-0.5750555,51.7618641
END:VEVENT
BEGIN:VEVENT
DTSTART;TZID=Europe/London:20240804T100000
DTEND;TZID=Europe/London:20240804T110000
DTSTAMP:20260421T162623
CREATED:20240518T181629Z
LAST-MODIFIED:20240518T181629Z
UID:10001590-1722765600-1722769200@www.allsaintsberkhamsted.org.uk
SUMMARY:Morning Worship
DESCRIPTION:led by Richard Hackworth
URL:https://www.allsaintsberkhamsted.org.uk/event/morning-worship-51/
CATEGORIES:worship
END:VEVENT
BEGIN:VEVENT
DTSTART;TZID=Europe/London:20240806T090000
DTEND;TZID=Europe/London:20240806T091500
DTSTAMP:20260421T162623
CREATED:20230619T152758Z
LAST-MODIFIED:20240518T190334Z
UID:10000817-1722934800-1722935700@www.allsaintsberkhamsted.org.uk
SUMMARY:Morning Prayer
DESCRIPTION:with Tracy Robinson
URL:https://www.allsaintsberkhamsted.org.uk/event/morning-prayer-3-2/2024-08-06/
LOCATION:All Saints’ Church\, Shrublands Road\, Berkhamsted\, HP4 3HY\, United Kingdom
CATEGORIES:worship
GEO:51.7618641;-0.5750555
X-APPLE-STRUCTURED-LOCATION;VALUE=URI;X-ADDRESS=All Saints’ Church Shrublands Road Berkhamsted HP4 3HY United Kingdom;X-APPLE-RADIUS=500;X-TITLE=Shrublands Road:geo:-0.5750555,51.7618641
END:VEVENT
BEGIN:VEVENT
DTSTART;TZID=Europe/London:20240809T160000
DTEND;TZID=Europe/London:20240809T161500
DTSTAMP:20260421T162623
CREATED:20221129T125503Z
LAST-MODIFIED:20240518T190542Z
UID:10001026-1723219200-1723220100@www.allsaintsberkhamsted.org.uk
SUMMARY:Evening Prayer
DESCRIPTION:with Tracy Robinson
URL:https://www.allsaintsberkhamsted.org.uk/event/evening-prayer-2/2024-08-09/
LOCATION:All Saints’ Church\, Shrublands Road\, Berkhamsted\, HP4 3HY\, United Kingdom
CATEGORIES:worship
GEO:51.7618641;-0.5750555
X-APPLE-STRUCTURED-LOCATION;VALUE=URI;X-ADDRESS=All Saints’ Church Shrublands Road Berkhamsted HP4 3HY United Kingdom;X-APPLE-RADIUS=500;X-TITLE=Shrublands Road:geo:-0.5750555,51.7618641
END:VEVENT
BEGIN:VEVENT
DTSTART;TZID=Europe/London:20240811T100000
DTEND;TZID=Europe/London:20240811T110000
DTSTAMP:20260421T162623
CREATED:20240518T181829Z
LAST-MODIFIED:20240518T181829Z
UID:10001591-1723370400-1723374000@www.allsaintsberkhamsted.org.uk
SUMMARY:Holy Communion
DESCRIPTION:led by Revd John Kirkby
URL:https://www.allsaintsberkhamsted.org.uk/event/holy-communion-74/
CATEGORIES:worship
END:VEVENT
BEGIN:VEVENT
DTSTART;TZID=Europe/London:20240813T090000
DTEND;TZID=Europe/London:20240813T091500
DTSTAMP:20260421T162623
CREATED:20230619T152758Z
LAST-MODIFIED:20240518T190334Z
UID:10000818-1723539600-1723540500@www.allsaintsberkhamsted.org.uk
SUMMARY:Morning Prayer
DESCRIPTION:with Tracy Robinson
URL:https://www.allsaintsberkhamsted.org.uk/event/morning-prayer-3-2/2024-08-13/
LOCATION:All Saints’ Church\, Shrublands Road\, Berkhamsted\, HP4 3HY\, United Kingdom
CATEGORIES:worship
GEO:51.7618641;-0.5750555
X-APPLE-STRUCTURED-LOCATION;VALUE=URI;X-ADDRESS=All Saints’ Church Shrublands Road Berkhamsted HP4 3HY United Kingdom;X-APPLE-RADIUS=500;X-TITLE=Shrublands Road:geo:-0.5750555,51.7618641
END:VEVENT
BEGIN:VEVENT
DTSTART;TZID=Europe/London:20240815T204500
DTEND;TZID=Europe/London:20240815T211500
DTSTAMP:20260421T162623
CREATED:20230825T092109Z
LAST-MODIFIED:20230825T092109Z
UID:10001502-1723754700-1723756500@www.allsaintsberkhamsted.org.uk
SUMMARY:Compline/ Night Prayer
DESCRIPTION:On Zoom only\, not in church \nThe Zoom link will be on our homepage
URL:https://www.allsaintsberkhamsted.org.uk/event/compline-night-prayer-4/2024-08-15/
CATEGORIES:worship
END:VEVENT
BEGIN:VEVENT
DTSTART;TZID=Europe/London:20240816T160000
DTEND;TZID=Europe/London:20240816T161500
DTSTAMP:20260421T162623
CREATED:20221129T125503Z
LAST-MODIFIED:20240518T190542Z
UID:10001027-1723824000-1723824900@www.allsaintsberkhamsted.org.uk
SUMMARY:Evening Prayer
DESCRIPTION:with Tracy Robinson
URL:https://www.allsaintsberkhamsted.org.uk/event/evening-prayer-2/2024-08-16/
LOCATION:All Saints’ Church\, Shrublands Road\, Berkhamsted\, HP4 3HY\, United Kingdom
CATEGORIES:worship
GEO:51.7618641;-0.5750555
X-APPLE-STRUCTURED-LOCATION;VALUE=URI;X-ADDRESS=All Saints’ Church Shrublands Road Berkhamsted HP4 3HY United Kingdom;X-APPLE-RADIUS=500;X-TITLE=Shrublands Road:geo:-0.5750555,51.7618641
END:VEVENT
BEGIN:VEVENT
DTSTART;TZID=Europe/London:20240818T100000
DTEND;TZID=Europe/London:20240818T110000
DTSTAMP:20260421T162623
CREATED:20240518T182527Z
LAST-MODIFIED:20240518T182527Z
UID:10001594-1723975200-1723978800@www.allsaintsberkhamsted.org.uk
SUMMARY:Morning Worship
DESCRIPTION:led by David Williamson
URL:https://www.allsaintsberkhamsted.org.uk/event/morning-worship-53/
CATEGORIES:worship
END:VEVENT
BEGIN:VEVENT
DTSTART;TZID=Europe/London:20240820T090000
DTEND;TZID=Europe/London:20240820T091500
DTSTAMP:20260421T162623
CREATED:20230619T152758Z
LAST-MODIFIED:20240518T190334Z
UID:10000819-1724144400-1724145300@www.allsaintsberkhamsted.org.uk
SUMMARY:Morning Prayer
DESCRIPTION:with Tracy Robinson
URL:https://www.allsaintsberkhamsted.org.uk/event/morning-prayer-3-2/2024-08-20/
LOCATION:All Saints’ Church\, Shrublands Road\, Berkhamsted\, HP4 3HY\, United Kingdom
CATEGORIES:worship
GEO:51.7618641;-0.5750555
X-APPLE-STRUCTURED-LOCATION;VALUE=URI;X-ADDRESS=All Saints’ Church Shrublands Road Berkhamsted HP4 3HY United Kingdom;X-APPLE-RADIUS=500;X-TITLE=Shrublands Road:geo:-0.5750555,51.7618641
END:VEVENT
BEGIN:VEVENT
DTSTART;TZID=Europe/London:20240823T160000
DTEND;TZID=Europe/London:20240823T161500
DTSTAMP:20260421T162623
CREATED:20221129T125503Z
LAST-MODIFIED:20240518T190542Z
UID:10001028-1724428800-1724429700@www.allsaintsberkhamsted.org.uk
SUMMARY:Evening Prayer
DESCRIPTION:with Tracy Robinson
URL:https://www.allsaintsberkhamsted.org.uk/event/evening-prayer-2/2024-08-23/
LOCATION:All Saints’ Church\, Shrublands Road\, Berkhamsted\, HP4 3HY\, United Kingdom
CATEGORIES:worship
GEO:51.7618641;-0.5750555
X-APPLE-STRUCTURED-LOCATION;VALUE=URI;X-ADDRESS=All Saints’ Church Shrublands Road Berkhamsted HP4 3HY United Kingdom;X-APPLE-RADIUS=500;X-TITLE=Shrublands Road:geo:-0.5750555,51.7618641
END:VEVENT
BEGIN:VEVENT
DTSTART;TZID=Europe/London:20240825T100000
DTEND;TZID=Europe/London:20240825T110000
DTSTAMP:20260421T162623
CREATED:20240518T182150Z
LAST-MODIFIED:20240518T182150Z
UID:10001593-1724580000-1724583600@www.allsaintsberkhamsted.org.uk
SUMMARY:Holy Communion
DESCRIPTION:led by Revd Margaret Saunders
URL:https://www.allsaintsberkhamsted.org.uk/event/holy-communion-75/
CATEGORIES:worship
END:VEVENT
BEGIN:VEVENT
DTSTART;TZID=Europe/London:20240827T090000
DTEND;TZID=Europe/London:20240827T091500
DTSTAMP:20260421T162623
CREATED:20230619T152758Z
LAST-MODIFIED:20240518T190334Z
UID:10000820-1724749200-1724750100@www.allsaintsberkhamsted.org.uk
SUMMARY:Morning Prayer
DESCRIPTION:with Tracy Robinson
URL:https://www.allsaintsberkhamsted.org.uk/event/morning-prayer-3-2/2024-08-27/
LOCATION:All Saints’ Church\, Shrublands Road\, Berkhamsted\, HP4 3HY\, United Kingdom
CATEGORIES:worship
GEO:51.7618641;-0.5750555
X-APPLE-STRUCTURED-LOCATION;VALUE=URI;X-ADDRESS=All Saints’ Church Shrublands Road Berkhamsted HP4 3HY United Kingdom;X-APPLE-RADIUS=500;X-TITLE=Shrublands Road:geo:-0.5750555,51.7618641
END:VEVENT
BEGIN:VEVENT
DTSTART;TZID=Europe/London:20240829T204500
DTEND;TZID=Europe/London:20240829T211500
DTSTAMP:20260421T162623
CREATED:20230825T092109Z
LAST-MODIFIED:20230825T092109Z
UID:10001503-1724964300-1724966100@www.allsaintsberkhamsted.org.uk
SUMMARY:Compline/ Night Prayer
DESCRIPTION:On Zoom only\, not in church \nThe Zoom link will be on our homepage
URL:https://www.allsaintsberkhamsted.org.uk/event/compline-night-prayer-4/2024-08-29/
CATEGORIES:worship
END:VEVENT
BEGIN:VEVENT
DTSTART;TZID=Europe/London:20240830T160000
DTEND;TZID=Europe/London:20240830T161500
DTSTAMP:20260421T162623
CREATED:20221129T125503Z
LAST-MODIFIED:20240518T190542Z
UID:10001029-1725033600-1725034500@www.allsaintsberkhamsted.org.uk
SUMMARY:Evening Prayer
DESCRIPTION:with Tracy Robinson
URL:https://www.allsaintsberkhamsted.org.uk/event/evening-prayer-2/2024-08-30/
LOCATION:All Saints’ Church\, Shrublands Road\, Berkhamsted\, HP4 3HY\, United Kingdom
CATEGORIES:worship
GEO:51.7618641;-0.5750555
X-APPLE-STRUCTURED-LOCATION;VALUE=URI;X-ADDRESS=All Saints’ Church Shrublands Road Berkhamsted HP4 3HY United Kingdom;X-APPLE-RADIUS=500;X-TITLE=Shrublands Road:geo:-0.5750555,51.7618641
END:VEVENT
BEGIN:VEVENT
DTSTART;TZID=Europe/London:20240901T100000
DTEND;TZID=Europe/London:20240901T110000
DTSTAMP:20260421T162623
CREATED:20240726T163424Z
LAST-MODIFIED:20240726T163424Z
UID:10001670-1725184800-1725188400@www.allsaintsberkhamsted.org.uk
SUMMARY:Morning Worship with Baptism
DESCRIPTION:led by Revd Rachael Hawkins
URL:https://www.allsaintsberkhamsted.org.uk/event/morning-worship-with-baptism/
LOCATION:All Saints’ Church\, Shrublands Road\, Berkhamsted\, HP4 3HY\, United Kingdom
CATEGORIES:worship
GEO:51.7618641;-0.5750555
X-APPLE-STRUCTURED-LOCATION;VALUE=URI;X-ADDRESS=All Saints’ Church Shrublands Road Berkhamsted HP4 3HY United Kingdom;X-APPLE-RADIUS=500;X-TITLE=Shrublands Road:geo:-0.5750555,51.7618641
END:VEVENT
BEGIN:VEVENT
DTSTART;TZID=Europe/London:20240903T090000
DTEND;TZID=Europe/London:20240903T091500
DTSTAMP:20260421T162623
CREATED:20230619T152758Z
LAST-MODIFIED:20240518T190334Z
UID:10000821-1725354000-1725354900@www.allsaintsberkhamsted.org.uk
SUMMARY:Morning Prayer
DESCRIPTION:with Tracy Robinson
URL:https://www.allsaintsberkhamsted.org.uk/event/morning-prayer-3-2/2024-09-03/
LOCATION:All Saints’ Church\, Shrublands Road\, Berkhamsted\, HP4 3HY\, United Kingdom
CATEGORIES:worship
GEO:51.7618641;-0.5750555
X-APPLE-STRUCTURED-LOCATION;VALUE=URI;X-ADDRESS=All Saints’ Church Shrublands Road Berkhamsted HP4 3HY United Kingdom;X-APPLE-RADIUS=500;X-TITLE=Shrublands Road:geo:-0.5750555,51.7618641
END:VEVENT
BEGIN:VEVENT
DTSTART;TZID=Europe/London:20240906T160000
DTEND;TZID=Europe/London:20240906T161500
DTSTAMP:20260421T162623
CREATED:20221129T125503Z
LAST-MODIFIED:20240518T190542Z
UID:10001030-1725638400-1725639300@www.allsaintsberkhamsted.org.uk
SUMMARY:Evening Prayer
DESCRIPTION:with Tracy Robinson
URL:https://www.allsaintsberkhamsted.org.uk/event/evening-prayer-2/2024-09-06/
LOCATION:All Saints’ Church\, Shrublands Road\, Berkhamsted\, HP4 3HY\, United Kingdom
CATEGORIES:worship
GEO:51.7618641;-0.5750555
X-APPLE-STRUCTURED-LOCATION;VALUE=URI;X-ADDRESS=All Saints’ Church Shrublands Road Berkhamsted HP4 3HY United Kingdom;X-APPLE-RADIUS=500;X-TITLE=Shrublands Road:geo:-0.5750555,51.7618641
END:VEVENT
BEGIN:VEVENT
DTSTART;TZID=Europe/London:20240908T100000
DTEND;TZID=Europe/London:20240908T110000
DTSTAMP:20260421T162623
CREATED:20240726T163532Z
LAST-MODIFIED:20240726T163532Z
UID:10001671-1725789600-1725793200@www.allsaintsberkhamsted.org.uk
SUMMARY:Holy Communion
DESCRIPTION:led by Revd John Kirkby
URL:https://www.allsaintsberkhamsted.org.uk/event/holy-communion-76/
LOCATION:All Saints’ Church\, Shrublands Road\, Berkhamsted\, HP4 3HY\, United Kingdom
CATEGORIES:worship
GEO:51.7618641;-0.5750555
X-APPLE-STRUCTURED-LOCATION;VALUE=URI;X-ADDRESS=All Saints’ Church Shrublands Road Berkhamsted HP4 3HY United Kingdom;X-APPLE-RADIUS=500;X-TITLE=Shrublands Road:geo:-0.5750555,51.7618641
END:VEVENT
BEGIN:VEVENT
DTSTART;TZID=Europe/London:20240908T160000
DTEND;TZID=Europe/London:20240908T173000
DTSTAMP:20260421T162623
CREATED:20240726T163635Z
LAST-MODIFIED:20240726T163635Z
UID:10001672-1725811200-1725816600@www.allsaintsberkhamsted.org.uk
SUMMARY:Messy Church
DESCRIPTION:led by Revd Rachael Hawkins and the Messy Church Team
URL:https://www.allsaintsberkhamsted.org.uk/event/messy-church-29/
LOCATION:All Saints’ Church\, Shrublands Road\, Berkhamsted\, HP4 3HY\, United Kingdom
CATEGORIES:worship
GEO:51.7618641;-0.5750555
X-APPLE-STRUCTURED-LOCATION;VALUE=URI;X-ADDRESS=All Saints’ Church Shrublands Road Berkhamsted HP4 3HY United Kingdom;X-APPLE-RADIUS=500;X-TITLE=Shrublands Road:geo:-0.5750555,51.7618641
END:VEVENT
BEGIN:VEVENT
DTSTART;TZID=Europe/London:20240910T090000
DTEND;TZID=Europe/London:20240910T091500
DTSTAMP:20260421T162623
CREATED:20230619T152758Z
LAST-MODIFIED:20240518T190334Z
UID:10000822-1725958800-1725959700@www.allsaintsberkhamsted.org.uk
SUMMARY:Morning Prayer
DESCRIPTION:with Tracy Robinson
URL:https://www.allsaintsberkhamsted.org.uk/event/morning-prayer-3-2/2024-09-10/
LOCATION:All Saints’ Church\, Shrublands Road\, Berkhamsted\, HP4 3HY\, United Kingdom
CATEGORIES:worship
GEO:51.7618641;-0.5750555
X-APPLE-STRUCTURED-LOCATION;VALUE=URI;X-ADDRESS=All Saints’ Church Shrublands Road Berkhamsted HP4 3HY United Kingdom;X-APPLE-RADIUS=500;X-TITLE=Shrublands Road:geo:-0.5750555,51.7618641
END:VEVENT
BEGIN:VEVENT
DTSTART;TZID=Europe/London:20240912T204500
DTEND;TZID=Europe/London:20240912T211500
DTSTAMP:20260421T162623
CREATED:20230825T092109Z
LAST-MODIFIED:20230825T092109Z
UID:10001504-1726173900-1726175700@www.allsaintsberkhamsted.org.uk
SUMMARY:Compline/ Night Prayer
DESCRIPTION:On Zoom only\, not in church \nThe Zoom link will be on our homepage
URL:https://www.allsaintsberkhamsted.org.uk/event/compline-night-prayer-4/2024-09-12/
CATEGORIES:worship
END:VEVENT
END:VCALENDAR