BEGIN:VCALENDAR
VERSION:2.0
PRODID:-//All Saints Berkhamsted - ECPv6.15.20//NONSGML v1.0//EN
CALSCALE:GREGORIAN
METHOD:PUBLISH
X-ORIGINAL-URL:https://www.allsaintsberkhamsted.org.uk
X-WR-CALDESC:Events for All Saints Berkhamsted
REFRESH-INTERVAL;VALUE=DURATION:PT1H
X-Robots-Tag:noindex
X-PUBLISHED-TTL:PT1H
BEGIN:VTIMEZONE
TZID:Europe/London
BEGIN:DAYLIGHT
TZOFFSETFROM:+0000
TZOFFSETTO:+0100
TZNAME:BST
DTSTART:20280326T010000
END:DAYLIGHT
BEGIN:STANDARD
TZOFFSETFROM:+0100
TZOFFSETTO:+0000
TZNAME:GMT
DTSTART:20281029T010000
END:STANDARD
BEGIN:DAYLIGHT
TZOFFSETFROM:+0000
TZOFFSETTO:+0100
TZNAME:BST
DTSTART:20290325T010000
END:DAYLIGHT
BEGIN:STANDARD
TZOFFSETFROM:+0100
TZOFFSETTO:+0000
TZNAME:GMT
DTSTART:20291028T010000
END:STANDARD
BEGIN:DAYLIGHT
TZOFFSETFROM:+0000
TZOFFSETTO:+0100
TZNAME:BST
DTSTART:20300331T010000
END:DAYLIGHT
BEGIN:STANDARD
TZOFFSETFROM:+0100
TZOFFSETTO:+0000
TZNAME:GMT
DTSTART:20301027T010000
END:STANDARD
END:VTIMEZONE
BEGIN:VEVENT
DTSTART;TZID=Europe/London:20290206T093000
DTEND;TZID=Europe/London:20290206T100000
DTSTAMP:20260424T085732
CREATED:20241107T184220Z
LAST-MODIFIED:20241107T184220Z
UID:10001924-1865064600-1865066400@www.allsaintsberkhamsted.org.uk
SUMMARY:Eucharist
DESCRIPTION:
URL:https://www.allsaintsberkhamsted.org.uk/event/eucharist/2029-02-06/
LOCATION:All Saints’ Church\, Shrublands Road\, Berkhamsted\, HP4 3HY\, United Kingdom
CATEGORIES:worship
GEO:51.7618641;-0.5750555
X-APPLE-STRUCTURED-LOCATION;VALUE=URI;X-ADDRESS=All Saints’ Church Shrublands Road Berkhamsted HP4 3HY United Kingdom;X-APPLE-RADIUS=500;X-TITLE=Shrublands Road:geo:-0.5750555,51.7618641
END:VEVENT
BEGIN:VEVENT
DTSTART;TZID=Europe/London:20290208T204500
DTEND;TZID=Europe/London:20290208T211500
DTSTAMP:20260424T085732
CREATED:20250402T135535Z
LAST-MODIFIED:20250402T135535Z
UID:10002094-1865277900-1865279700@www.allsaintsberkhamsted.org.uk
SUMMARY:Compline (Night Prayer)
DESCRIPTION:On Zoom only\,  not in church – fortnightly on Thursday evenings \nThe Zoom link will be available on our homepage
URL:https://www.allsaintsberkhamsted.org.uk/event/compline-night-prayer-5/2029-02-08/
LOCATION:All Saints’ Church\, Shrublands Road\, Berkhamsted\, HP4 3HY\, United Kingdom
CATEGORIES:worship
GEO:51.7618641;-0.5750555
X-APPLE-STRUCTURED-LOCATION;VALUE=URI;X-ADDRESS=All Saints’ Church Shrublands Road Berkhamsted HP4 3HY United Kingdom;X-APPLE-RADIUS=500;X-TITLE=Shrublands Road:geo:-0.5750555,51.7618641
END:VEVENT
BEGIN:VEVENT
DTSTART;TZID=Europe/London:20290209T160000
DTEND;TZID=Europe/London:20290209T161500
DTSTAMP:20260424T085732
CREATED:20221129T125503Z
LAST-MODIFIED:20240518T190542Z
UID:10001654-1865347200-1865348100@www.allsaintsberkhamsted.org.uk
SUMMARY:Evening Prayer
DESCRIPTION:with Tracy Robinson
URL:https://www.allsaintsberkhamsted.org.uk/event/evening-prayer-2/2029-02-09/
LOCATION:All Saints’ Church\, Shrublands Road\, Berkhamsted\, HP4 3HY\, United Kingdom
CATEGORIES:worship
GEO:51.7618641;-0.5750555
X-APPLE-STRUCTURED-LOCATION;VALUE=URI;X-ADDRESS=All Saints’ Church Shrublands Road Berkhamsted HP4 3HY United Kingdom;X-APPLE-RADIUS=500;X-TITLE=Shrublands Road:geo:-0.5750555,51.7618641
END:VEVENT
BEGIN:VEVENT
DTSTART;TZID=Europe/London:20290213T090000
DTEND;TZID=Europe/London:20290213T091500
DTSTAMP:20260424T085732
CREATED:20230619T152758Z
LAST-MODIFIED:20240518T190334Z
UID:10001633-1865667600-1865668500@www.allsaintsberkhamsted.org.uk
SUMMARY:Morning Prayer
DESCRIPTION:with Tracy Robinson
URL:https://www.allsaintsberkhamsted.org.uk/event/morning-prayer-3-2/2029-02-13/
LOCATION:All Saints’ Church\, Shrublands Road\, Berkhamsted\, HP4 3HY\, United Kingdom
CATEGORIES:worship
GEO:51.7618641;-0.5750555
X-APPLE-STRUCTURED-LOCATION;VALUE=URI;X-ADDRESS=All Saints’ Church Shrublands Road Berkhamsted HP4 3HY United Kingdom;X-APPLE-RADIUS=500;X-TITLE=Shrublands Road:geo:-0.5750555,51.7618641
END:VEVENT
BEGIN:VEVENT
DTSTART;TZID=Europe/London:20290213T093000
DTEND;TZID=Europe/London:20290213T100000
DTSTAMP:20260424T085732
CREATED:20241107T184220Z
LAST-MODIFIED:20241107T184220Z
UID:10001925-1865669400-1865671200@www.allsaintsberkhamsted.org.uk
SUMMARY:Eucharist
DESCRIPTION:
URL:https://www.allsaintsberkhamsted.org.uk/event/eucharist/2029-02-13/
LOCATION:All Saints’ Church\, Shrublands Road\, Berkhamsted\, HP4 3HY\, United Kingdom
CATEGORIES:worship
GEO:51.7618641;-0.5750555
X-APPLE-STRUCTURED-LOCATION;VALUE=URI;X-ADDRESS=All Saints’ Church Shrublands Road Berkhamsted HP4 3HY United Kingdom;X-APPLE-RADIUS=500;X-TITLE=Shrublands Road:geo:-0.5750555,51.7618641
END:VEVENT
BEGIN:VEVENT
DTSTART;TZID=Europe/London:20290216T160000
DTEND;TZID=Europe/London:20290216T161500
DTSTAMP:20260424T085732
CREATED:20221129T125503Z
LAST-MODIFIED:20240518T190542Z
UID:10001655-1865952000-1865952900@www.allsaintsberkhamsted.org.uk
SUMMARY:Evening Prayer
DESCRIPTION:with Tracy Robinson
URL:https://www.allsaintsberkhamsted.org.uk/event/evening-prayer-2/2029-02-16/
LOCATION:All Saints’ Church\, Shrublands Road\, Berkhamsted\, HP4 3HY\, United Kingdom
CATEGORIES:worship
GEO:51.7618641;-0.5750555
X-APPLE-STRUCTURED-LOCATION;VALUE=URI;X-ADDRESS=All Saints’ Church Shrublands Road Berkhamsted HP4 3HY United Kingdom;X-APPLE-RADIUS=500;X-TITLE=Shrublands Road:geo:-0.5750555,51.7618641
END:VEVENT
BEGIN:VEVENT
DTSTART;TZID=Europe/London:20290220T090000
DTEND;TZID=Europe/London:20290220T091500
DTSTAMP:20260424T085732
CREATED:20230619T152758Z
LAST-MODIFIED:20240518T190334Z
UID:10001634-1866272400-1866273300@www.allsaintsberkhamsted.org.uk
SUMMARY:Morning Prayer
DESCRIPTION:with Tracy Robinson
URL:https://www.allsaintsberkhamsted.org.uk/event/morning-prayer-3-2/2029-02-20/
LOCATION:All Saints’ Church\, Shrublands Road\, Berkhamsted\, HP4 3HY\, United Kingdom
CATEGORIES:worship
GEO:51.7618641;-0.5750555
X-APPLE-STRUCTURED-LOCATION;VALUE=URI;X-ADDRESS=All Saints’ Church Shrublands Road Berkhamsted HP4 3HY United Kingdom;X-APPLE-RADIUS=500;X-TITLE=Shrublands Road:geo:-0.5750555,51.7618641
END:VEVENT
BEGIN:VEVENT
DTSTART;TZID=Europe/London:20290220T093000
DTEND;TZID=Europe/London:20290220T100000
DTSTAMP:20260424T085732
CREATED:20241107T184220Z
LAST-MODIFIED:20241107T184220Z
UID:10001926-1866274200-1866276000@www.allsaintsberkhamsted.org.uk
SUMMARY:Eucharist
DESCRIPTION:
URL:https://www.allsaintsberkhamsted.org.uk/event/eucharist/2029-02-20/
LOCATION:All Saints’ Church\, Shrublands Road\, Berkhamsted\, HP4 3HY\, United Kingdom
CATEGORIES:worship
GEO:51.7618641;-0.5750555
X-APPLE-STRUCTURED-LOCATION;VALUE=URI;X-ADDRESS=All Saints’ Church Shrublands Road Berkhamsted HP4 3HY United Kingdom;X-APPLE-RADIUS=500;X-TITLE=Shrublands Road:geo:-0.5750555,51.7618641
END:VEVENT
BEGIN:VEVENT
DTSTART;TZID=Europe/London:20290222T204500
DTEND;TZID=Europe/London:20290222T211500
DTSTAMP:20260424T085732
CREATED:20250402T135535Z
LAST-MODIFIED:20250402T135535Z
UID:10002095-1866487500-1866489300@www.allsaintsberkhamsted.org.uk
SUMMARY:Compline (Night Prayer)
DESCRIPTION:On Zoom only\,  not in church – fortnightly on Thursday evenings \nThe Zoom link will be available on our homepage
URL:https://www.allsaintsberkhamsted.org.uk/event/compline-night-prayer-5/2029-02-22/
LOCATION:All Saints’ Church\, Shrublands Road\, Berkhamsted\, HP4 3HY\, United Kingdom
CATEGORIES:worship
GEO:51.7618641;-0.5750555
X-APPLE-STRUCTURED-LOCATION;VALUE=URI;X-ADDRESS=All Saints’ Church Shrublands Road Berkhamsted HP4 3HY United Kingdom;X-APPLE-RADIUS=500;X-TITLE=Shrublands Road:geo:-0.5750555,51.7618641
END:VEVENT
BEGIN:VEVENT
DTSTART;TZID=Europe/London:20290223T160000
DTEND;TZID=Europe/London:20290223T161500
DTSTAMP:20260424T085733
CREATED:20221129T125503Z
LAST-MODIFIED:20240518T190542Z
UID:10001656-1866556800-1866557700@www.allsaintsberkhamsted.org.uk
SUMMARY:Evening Prayer
DESCRIPTION:with Tracy Robinson
URL:https://www.allsaintsberkhamsted.org.uk/event/evening-prayer-2/2029-02-23/
LOCATION:All Saints’ Church\, Shrublands Road\, Berkhamsted\, HP4 3HY\, United Kingdom
CATEGORIES:worship
GEO:51.7618641;-0.5750555
X-APPLE-STRUCTURED-LOCATION;VALUE=URI;X-ADDRESS=All Saints’ Church Shrublands Road Berkhamsted HP4 3HY United Kingdom;X-APPLE-RADIUS=500;X-TITLE=Shrublands Road:geo:-0.5750555,51.7618641
END:VEVENT
BEGIN:VEVENT
DTSTART;TZID=Europe/London:20290227T090000
DTEND;TZID=Europe/London:20290227T091500
DTSTAMP:20260424T085733
CREATED:20230619T152758Z
LAST-MODIFIED:20240518T190334Z
UID:10001635-1866877200-1866878100@www.allsaintsberkhamsted.org.uk
SUMMARY:Morning Prayer
DESCRIPTION:with Tracy Robinson
URL:https://www.allsaintsberkhamsted.org.uk/event/morning-prayer-3-2/2029-02-27/
LOCATION:All Saints’ Church\, Shrublands Road\, Berkhamsted\, HP4 3HY\, United Kingdom
CATEGORIES:worship
GEO:51.7618641;-0.5750555
X-APPLE-STRUCTURED-LOCATION;VALUE=URI;X-ADDRESS=All Saints’ Church Shrublands Road Berkhamsted HP4 3HY United Kingdom;X-APPLE-RADIUS=500;X-TITLE=Shrublands Road:geo:-0.5750555,51.7618641
END:VEVENT
BEGIN:VEVENT
DTSTART;TZID=Europe/London:20290227T093000
DTEND;TZID=Europe/London:20290227T100000
DTSTAMP:20260424T085733
CREATED:20241107T184220Z
LAST-MODIFIED:20241107T184220Z
UID:10001927-1866879000-1866880800@www.allsaintsberkhamsted.org.uk
SUMMARY:Eucharist
DESCRIPTION:
URL:https://www.allsaintsberkhamsted.org.uk/event/eucharist/2029-02-27/
LOCATION:All Saints’ Church\, Shrublands Road\, Berkhamsted\, HP4 3HY\, United Kingdom
CATEGORIES:worship
GEO:51.7618641;-0.5750555
X-APPLE-STRUCTURED-LOCATION;VALUE=URI;X-ADDRESS=All Saints’ Church Shrublands Road Berkhamsted HP4 3HY United Kingdom;X-APPLE-RADIUS=500;X-TITLE=Shrublands Road:geo:-0.5750555,51.7618641
END:VEVENT
BEGIN:VEVENT
DTSTART;TZID=Europe/London:20290302T160000
DTEND;TZID=Europe/London:20290302T161500
DTSTAMP:20260424T085733
CREATED:20221129T125503Z
LAST-MODIFIED:20240518T190542Z
UID:10001657-1867161600-1867162500@www.allsaintsberkhamsted.org.uk
SUMMARY:Evening Prayer
DESCRIPTION:with Tracy Robinson
URL:https://www.allsaintsberkhamsted.org.uk/event/evening-prayer-2/2029-03-02/
LOCATION:All Saints’ Church\, Shrublands Road\, Berkhamsted\, HP4 3HY\, United Kingdom
CATEGORIES:worship
GEO:51.7618641;-0.5750555
X-APPLE-STRUCTURED-LOCATION;VALUE=URI;X-ADDRESS=All Saints’ Church Shrublands Road Berkhamsted HP4 3HY United Kingdom;X-APPLE-RADIUS=500;X-TITLE=Shrublands Road:geo:-0.5750555,51.7618641
END:VEVENT
BEGIN:VEVENT
DTSTART;TZID=Europe/London:20290306T090000
DTEND;TZID=Europe/London:20290306T091500
DTSTAMP:20260424T085733
CREATED:20230619T152758Z
LAST-MODIFIED:20240518T190334Z
UID:10001636-1867482000-1867482900@www.allsaintsberkhamsted.org.uk
SUMMARY:Morning Prayer
DESCRIPTION:with Tracy Robinson
URL:https://www.allsaintsberkhamsted.org.uk/event/morning-prayer-3-2/2029-03-06/
LOCATION:All Saints’ Church\, Shrublands Road\, Berkhamsted\, HP4 3HY\, United Kingdom
CATEGORIES:worship
GEO:51.7618641;-0.5750555
X-APPLE-STRUCTURED-LOCATION;VALUE=URI;X-ADDRESS=All Saints’ Church Shrublands Road Berkhamsted HP4 3HY United Kingdom;X-APPLE-RADIUS=500;X-TITLE=Shrublands Road:geo:-0.5750555,51.7618641
END:VEVENT
BEGIN:VEVENT
DTSTART;TZID=Europe/London:20290306T093000
DTEND;TZID=Europe/London:20290306T100000
DTSTAMP:20260424T085733
CREATED:20241107T184220Z
LAST-MODIFIED:20241107T184220Z
UID:10001928-1867483800-1867485600@www.allsaintsberkhamsted.org.uk
SUMMARY:Eucharist
DESCRIPTION:
URL:https://www.allsaintsberkhamsted.org.uk/event/eucharist/2029-03-06/
LOCATION:All Saints’ Church\, Shrublands Road\, Berkhamsted\, HP4 3HY\, United Kingdom
CATEGORIES:worship
GEO:51.7618641;-0.5750555
X-APPLE-STRUCTURED-LOCATION;VALUE=URI;X-ADDRESS=All Saints’ Church Shrublands Road Berkhamsted HP4 3HY United Kingdom;X-APPLE-RADIUS=500;X-TITLE=Shrublands Road:geo:-0.5750555,51.7618641
END:VEVENT
BEGIN:VEVENT
DTSTART;TZID=Europe/London:20290308T204500
DTEND;TZID=Europe/London:20290308T211500
DTSTAMP:20260424T085733
CREATED:20250402T135535Z
LAST-MODIFIED:20250402T135535Z
UID:10002096-1867697100-1867698900@www.allsaintsberkhamsted.org.uk
SUMMARY:Compline (Night Prayer)
DESCRIPTION:On Zoom only\,  not in church – fortnightly on Thursday evenings \nThe Zoom link will be available on our homepage
URL:https://www.allsaintsberkhamsted.org.uk/event/compline-night-prayer-5/2029-03-08/
LOCATION:All Saints’ Church\, Shrublands Road\, Berkhamsted\, HP4 3HY\, United Kingdom
CATEGORIES:worship
GEO:51.7618641;-0.5750555
X-APPLE-STRUCTURED-LOCATION;VALUE=URI;X-ADDRESS=All Saints’ Church Shrublands Road Berkhamsted HP4 3HY United Kingdom;X-APPLE-RADIUS=500;X-TITLE=Shrublands Road:geo:-0.5750555,51.7618641
END:VEVENT
BEGIN:VEVENT
DTSTART;TZID=Europe/London:20290309T160000
DTEND;TZID=Europe/London:20290309T161500
DTSTAMP:20260424T085733
CREATED:20221129T125503Z
LAST-MODIFIED:20240518T190542Z
UID:10001658-1867766400-1867767300@www.allsaintsberkhamsted.org.uk
SUMMARY:Evening Prayer
DESCRIPTION:with Tracy Robinson
URL:https://www.allsaintsberkhamsted.org.uk/event/evening-prayer-2/2029-03-09/
LOCATION:All Saints’ Church\, Shrublands Road\, Berkhamsted\, HP4 3HY\, United Kingdom
CATEGORIES:worship
GEO:51.7618641;-0.5750555
X-APPLE-STRUCTURED-LOCATION;VALUE=URI;X-ADDRESS=All Saints’ Church Shrublands Road Berkhamsted HP4 3HY United Kingdom;X-APPLE-RADIUS=500;X-TITLE=Shrublands Road:geo:-0.5750555,51.7618641
END:VEVENT
BEGIN:VEVENT
DTSTART;TZID=Europe/London:20290313T090000
DTEND;TZID=Europe/London:20290313T091500
DTSTAMP:20260424T085733
CREATED:20230619T152758Z
LAST-MODIFIED:20240518T190334Z
UID:10001637-1868086800-1868087700@www.allsaintsberkhamsted.org.uk
SUMMARY:Morning Prayer
DESCRIPTION:with Tracy Robinson
URL:https://www.allsaintsberkhamsted.org.uk/event/morning-prayer-3-2/2029-03-13/
LOCATION:All Saints’ Church\, Shrublands Road\, Berkhamsted\, HP4 3HY\, United Kingdom
CATEGORIES:worship
GEO:51.7618641;-0.5750555
X-APPLE-STRUCTURED-LOCATION;VALUE=URI;X-ADDRESS=All Saints’ Church Shrublands Road Berkhamsted HP4 3HY United Kingdom;X-APPLE-RADIUS=500;X-TITLE=Shrublands Road:geo:-0.5750555,51.7618641
END:VEVENT
BEGIN:VEVENT
DTSTART;TZID=Europe/London:20290313T093000
DTEND;TZID=Europe/London:20290313T100000
DTSTAMP:20260424T085733
CREATED:20241107T184220Z
LAST-MODIFIED:20241107T184220Z
UID:10001929-1868088600-1868090400@www.allsaintsberkhamsted.org.uk
SUMMARY:Eucharist
DESCRIPTION:
URL:https://www.allsaintsberkhamsted.org.uk/event/eucharist/2029-03-13/
LOCATION:All Saints’ Church\, Shrublands Road\, Berkhamsted\, HP4 3HY\, United Kingdom
CATEGORIES:worship
GEO:51.7618641;-0.5750555
X-APPLE-STRUCTURED-LOCATION;VALUE=URI;X-ADDRESS=All Saints’ Church Shrublands Road Berkhamsted HP4 3HY United Kingdom;X-APPLE-RADIUS=500;X-TITLE=Shrublands Road:geo:-0.5750555,51.7618641
END:VEVENT
BEGIN:VEVENT
DTSTART;TZID=Europe/London:20290316T160000
DTEND;TZID=Europe/London:20290316T161500
DTSTAMP:20260424T085733
CREATED:20221129T125503Z
LAST-MODIFIED:20240518T190542Z
UID:10001659-1868371200-1868372100@www.allsaintsberkhamsted.org.uk
SUMMARY:Evening Prayer
DESCRIPTION:with Tracy Robinson
URL:https://www.allsaintsberkhamsted.org.uk/event/evening-prayer-2/2029-03-16/
LOCATION:All Saints’ Church\, Shrublands Road\, Berkhamsted\, HP4 3HY\, United Kingdom
CATEGORIES:worship
GEO:51.7618641;-0.5750555
X-APPLE-STRUCTURED-LOCATION;VALUE=URI;X-ADDRESS=All Saints’ Church Shrublands Road Berkhamsted HP4 3HY United Kingdom;X-APPLE-RADIUS=500;X-TITLE=Shrublands Road:geo:-0.5750555,51.7618641
END:VEVENT
BEGIN:VEVENT
DTSTART;TZID=Europe/London:20290320T090000
DTEND;TZID=Europe/London:20290320T091500
DTSTAMP:20260424T085733
CREATED:20230619T152758Z
LAST-MODIFIED:20240518T190334Z
UID:10001638-1868691600-1868692500@www.allsaintsberkhamsted.org.uk
SUMMARY:Morning Prayer
DESCRIPTION:with Tracy Robinson
URL:https://www.allsaintsberkhamsted.org.uk/event/morning-prayer-3-2/2029-03-20/
LOCATION:All Saints’ Church\, Shrublands Road\, Berkhamsted\, HP4 3HY\, United Kingdom
CATEGORIES:worship
GEO:51.7618641;-0.5750555
X-APPLE-STRUCTURED-LOCATION;VALUE=URI;X-ADDRESS=All Saints’ Church Shrublands Road Berkhamsted HP4 3HY United Kingdom;X-APPLE-RADIUS=500;X-TITLE=Shrublands Road:geo:-0.5750555,51.7618641
END:VEVENT
BEGIN:VEVENT
DTSTART;TZID=Europe/London:20290320T093000
DTEND;TZID=Europe/London:20290320T100000
DTSTAMP:20260424T085733
CREATED:20241107T184220Z
LAST-MODIFIED:20241107T184220Z
UID:10001930-1868693400-1868695200@www.allsaintsberkhamsted.org.uk
SUMMARY:Eucharist
DESCRIPTION:
URL:https://www.allsaintsberkhamsted.org.uk/event/eucharist/2029-03-20/
LOCATION:All Saints’ Church\, Shrublands Road\, Berkhamsted\, HP4 3HY\, United Kingdom
CATEGORIES:worship
GEO:51.7618641;-0.5750555
X-APPLE-STRUCTURED-LOCATION;VALUE=URI;X-ADDRESS=All Saints’ Church Shrublands Road Berkhamsted HP4 3HY United Kingdom;X-APPLE-RADIUS=500;X-TITLE=Shrublands Road:geo:-0.5750555,51.7618641
END:VEVENT
BEGIN:VEVENT
DTSTART;TZID=Europe/London:20290322T204500
DTEND;TZID=Europe/London:20290322T211500
DTSTAMP:20260424T085733
CREATED:20250402T135535Z
LAST-MODIFIED:20250402T135535Z
UID:10002097-1868906700-1868908500@www.allsaintsberkhamsted.org.uk
SUMMARY:Compline (Night Prayer)
DESCRIPTION:On Zoom only\,  not in church – fortnightly on Thursday evenings \nThe Zoom link will be available on our homepage
URL:https://www.allsaintsberkhamsted.org.uk/event/compline-night-prayer-5/2029-03-22/
LOCATION:All Saints’ Church\, Shrublands Road\, Berkhamsted\, HP4 3HY\, United Kingdom
CATEGORIES:worship
GEO:51.7618641;-0.5750555
X-APPLE-STRUCTURED-LOCATION;VALUE=URI;X-ADDRESS=All Saints’ Church Shrublands Road Berkhamsted HP4 3HY United Kingdom;X-APPLE-RADIUS=500;X-TITLE=Shrublands Road:geo:-0.5750555,51.7618641
END:VEVENT
BEGIN:VEVENT
DTSTART;TZID=Europe/London:20290323T160000
DTEND;TZID=Europe/London:20290323T161500
DTSTAMP:20260424T085733
CREATED:20221129T125503Z
LAST-MODIFIED:20240518T190542Z
UID:10001660-1868976000-1868976900@www.allsaintsberkhamsted.org.uk
SUMMARY:Evening Prayer
DESCRIPTION:with Tracy Robinson
URL:https://www.allsaintsberkhamsted.org.uk/event/evening-prayer-2/2029-03-23/
LOCATION:All Saints’ Church\, Shrublands Road\, Berkhamsted\, HP4 3HY\, United Kingdom
CATEGORIES:worship
GEO:51.7618641;-0.5750555
X-APPLE-STRUCTURED-LOCATION;VALUE=URI;X-ADDRESS=All Saints’ Church Shrublands Road Berkhamsted HP4 3HY United Kingdom;X-APPLE-RADIUS=500;X-TITLE=Shrublands Road:geo:-0.5750555,51.7618641
END:VEVENT
BEGIN:VEVENT
DTSTART;TZID=Europe/London:20290327T090000
DTEND;TZID=Europe/London:20290327T091500
DTSTAMP:20260424T085733
CREATED:20230619T152758Z
LAST-MODIFIED:20240518T190334Z
UID:10001639-1869296400-1869297300@www.allsaintsberkhamsted.org.uk
SUMMARY:Morning Prayer
DESCRIPTION:with Tracy Robinson
URL:https://www.allsaintsberkhamsted.org.uk/event/morning-prayer-3-2/2029-03-27/
LOCATION:All Saints’ Church\, Shrublands Road\, Berkhamsted\, HP4 3HY\, United Kingdom
CATEGORIES:worship
GEO:51.7618641;-0.5750555
X-APPLE-STRUCTURED-LOCATION;VALUE=URI;X-ADDRESS=All Saints’ Church Shrublands Road Berkhamsted HP4 3HY United Kingdom;X-APPLE-RADIUS=500;X-TITLE=Shrublands Road:geo:-0.5750555,51.7618641
END:VEVENT
BEGIN:VEVENT
DTSTART;TZID=Europe/London:20290327T093000
DTEND;TZID=Europe/London:20290327T100000
DTSTAMP:20260424T085733
CREATED:20241107T184220Z
LAST-MODIFIED:20241107T184220Z
UID:10001931-1869298200-1869300000@www.allsaintsberkhamsted.org.uk
SUMMARY:Eucharist
DESCRIPTION:
URL:https://www.allsaintsberkhamsted.org.uk/event/eucharist/2029-03-27/
LOCATION:All Saints’ Church\, Shrublands Road\, Berkhamsted\, HP4 3HY\, United Kingdom
CATEGORIES:worship
GEO:51.7618641;-0.5750555
X-APPLE-STRUCTURED-LOCATION;VALUE=URI;X-ADDRESS=All Saints’ Church Shrublands Road Berkhamsted HP4 3HY United Kingdom;X-APPLE-RADIUS=500;X-TITLE=Shrublands Road:geo:-0.5750555,51.7618641
END:VEVENT
BEGIN:VEVENT
DTSTART;TZID=Europe/London:20290330T160000
DTEND;TZID=Europe/London:20290330T161500
DTSTAMP:20260424T085733
CREATED:20221129T125503Z
LAST-MODIFIED:20240518T190542Z
UID:10001661-1869580800-1869581700@www.allsaintsberkhamsted.org.uk
SUMMARY:Evening Prayer
DESCRIPTION:with Tracy Robinson
URL:https://www.allsaintsberkhamsted.org.uk/event/evening-prayer-2/2029-03-30/
LOCATION:All Saints’ Church\, Shrublands Road\, Berkhamsted\, HP4 3HY\, United Kingdom
CATEGORIES:worship
GEO:51.7618641;-0.5750555
X-APPLE-STRUCTURED-LOCATION;VALUE=URI;X-ADDRESS=All Saints’ Church Shrublands Road Berkhamsted HP4 3HY United Kingdom;X-APPLE-RADIUS=500;X-TITLE=Shrublands Road:geo:-0.5750555,51.7618641
END:VEVENT
BEGIN:VEVENT
DTSTART;TZID=Europe/London:20290403T090000
DTEND;TZID=Europe/London:20290403T091500
DTSTAMP:20260424T085733
CREATED:20230619T152758Z
LAST-MODIFIED:20240518T190334Z
UID:10001640-1869901200-1869902100@www.allsaintsberkhamsted.org.uk
SUMMARY:Morning Prayer
DESCRIPTION:with Tracy Robinson
URL:https://www.allsaintsberkhamsted.org.uk/event/morning-prayer-3-2/2029-04-03/
LOCATION:All Saints’ Church\, Shrublands Road\, Berkhamsted\, HP4 3HY\, United Kingdom
CATEGORIES:worship
GEO:51.7618641;-0.5750555
X-APPLE-STRUCTURED-LOCATION;VALUE=URI;X-ADDRESS=All Saints’ Church Shrublands Road Berkhamsted HP4 3HY United Kingdom;X-APPLE-RADIUS=500;X-TITLE=Shrublands Road:geo:-0.5750555,51.7618641
END:VEVENT
BEGIN:VEVENT
DTSTART;TZID=Europe/London:20290403T093000
DTEND;TZID=Europe/London:20290403T100000
DTSTAMP:20260424T085733
CREATED:20241107T184220Z
LAST-MODIFIED:20241107T184220Z
UID:10001932-1869903000-1869904800@www.allsaintsberkhamsted.org.uk
SUMMARY:Eucharist
DESCRIPTION:
URL:https://www.allsaintsberkhamsted.org.uk/event/eucharist/2029-04-03/
LOCATION:All Saints’ Church\, Shrublands Road\, Berkhamsted\, HP4 3HY\, United Kingdom
CATEGORIES:worship
GEO:51.7618641;-0.5750555
X-APPLE-STRUCTURED-LOCATION;VALUE=URI;X-ADDRESS=All Saints’ Church Shrublands Road Berkhamsted HP4 3HY United Kingdom;X-APPLE-RADIUS=500;X-TITLE=Shrublands Road:geo:-0.5750555,51.7618641
END:VEVENT
BEGIN:VEVENT
DTSTART;TZID=Europe/London:20290405T204500
DTEND;TZID=Europe/London:20290405T211500
DTSTAMP:20260424T085733
CREATED:20250402T135535Z
LAST-MODIFIED:20250402T135535Z
UID:10002098-1870116300-1870118100@www.allsaintsberkhamsted.org.uk
SUMMARY:Compline (Night Prayer)
DESCRIPTION:On Zoom only\,  not in church – fortnightly on Thursday evenings \nThe Zoom link will be available on our homepage
URL:https://www.allsaintsberkhamsted.org.uk/event/compline-night-prayer-5/2029-04-05/
LOCATION:All Saints’ Church\, Shrublands Road\, Berkhamsted\, HP4 3HY\, United Kingdom
CATEGORIES:worship
GEO:51.7618641;-0.5750555
X-APPLE-STRUCTURED-LOCATION;VALUE=URI;X-ADDRESS=All Saints’ Church Shrublands Road Berkhamsted HP4 3HY United Kingdom;X-APPLE-RADIUS=500;X-TITLE=Shrublands Road:geo:-0.5750555,51.7618641
END:VEVENT
END:VCALENDAR