BEGIN:VCALENDAR
VERSION:2.0
PRODID:-//All Saints Berkhamsted - ECPv6.15.20//NONSGML v1.0//EN
CALSCALE:GREGORIAN
METHOD:PUBLISH
X-ORIGINAL-URL:https://www.allsaintsberkhamsted.org.uk
X-WR-CALDESC:Events for All Saints Berkhamsted
REFRESH-INTERVAL;VALUE=DURATION:PT1H
X-Robots-Tag:noindex
X-PUBLISHED-TTL:PT1H
BEGIN:VTIMEZONE
TZID:Europe/London
BEGIN:DAYLIGHT
TZOFFSETFROM:+0000
TZOFFSETTO:+0100
TZNAME:BST
DTSTART:20230326T010000
END:DAYLIGHT
BEGIN:STANDARD
TZOFFSETFROM:+0100
TZOFFSETTO:+0000
TZNAME:GMT
DTSTART:20231029T010000
END:STANDARD
BEGIN:DAYLIGHT
TZOFFSETFROM:+0000
TZOFFSETTO:+0100
TZNAME:BST
DTSTART:20240331T010000
END:DAYLIGHT
BEGIN:STANDARD
TZOFFSETFROM:+0100
TZOFFSETTO:+0000
TZNAME:GMT
DTSTART:20241027T010000
END:STANDARD
BEGIN:DAYLIGHT
TZOFFSETFROM:+0000
TZOFFSETTO:+0100
TZNAME:BST
DTSTART:20250330T010000
END:DAYLIGHT
BEGIN:STANDARD
TZOFFSETFROM:+0100
TZOFFSETTO:+0000
TZNAME:GMT
DTSTART:20251026T010000
END:STANDARD
END:VTIMEZONE
BEGIN:VEVENT
DTSTART;TZID=Europe/London:20240607T160000
DTEND;TZID=Europe/London:20240607T161500
DTSTAMP:20260421T145929
CREATED:20221129T125503Z
LAST-MODIFIED:20240518T190542Z
UID:10001017-1717776000-1717776900@www.allsaintsberkhamsted.org.uk
SUMMARY:Evening Prayer
DESCRIPTION:with Tracy Robinson
URL:https://www.allsaintsberkhamsted.org.uk/event/evening-prayer-2/2024-06-07/
LOCATION:All Saints’ Church\, Shrublands Road\, Berkhamsted\, HP4 3HY\, United Kingdom
CATEGORIES:worship
GEO:51.7618641;-0.5750555
X-APPLE-STRUCTURED-LOCATION;VALUE=URI;X-ADDRESS=All Saints’ Church Shrublands Road Berkhamsted HP4 3HY United Kingdom;X-APPLE-RADIUS=500;X-TITLE=Shrublands Road:geo:-0.5750555,51.7618641
END:VEVENT
BEGIN:VEVENT
DTSTART;TZID=Europe/London:20240609T100000
DTEND;TZID=Europe/London:20240609T110000
DTSTAMP:20260421T145929
CREATED:20240518T175930Z
LAST-MODIFIED:20240518T175930Z
UID:10001580-1717927200-1717930800@www.allsaintsberkhamsted.org.uk
SUMMARY:Holy Communion
DESCRIPTION:led by Revd John Kirkby
URL:https://www.allsaintsberkhamsted.org.uk/event/holy-communion-69/
CATEGORIES:worship
END:VEVENT
BEGIN:VEVENT
DTSTART;TZID=Europe/London:20240611T090000
DTEND;TZID=Europe/London:20240611T091500
DTSTAMP:20260421T145929
CREATED:20230619T152758Z
LAST-MODIFIED:20240518T190334Z
UID:10000809-1718096400-1718097300@www.allsaintsberkhamsted.org.uk
SUMMARY:Morning Prayer
DESCRIPTION:with Tracy Robinson
URL:https://www.allsaintsberkhamsted.org.uk/event/morning-prayer-3-2/2024-06-11/
LOCATION:All Saints’ Church\, Shrublands Road\, Berkhamsted\, HP4 3HY\, United Kingdom
CATEGORIES:worship
GEO:51.7618641;-0.5750555
X-APPLE-STRUCTURED-LOCATION;VALUE=URI;X-ADDRESS=All Saints’ Church Shrublands Road Berkhamsted HP4 3HY United Kingdom;X-APPLE-RADIUS=500;X-TITLE=Shrublands Road:geo:-0.5750555,51.7618641
END:VEVENT
BEGIN:VEVENT
DTSTART;TZID=Europe/London:20240614T160000
DTEND;TZID=Europe/London:20240614T161500
DTSTAMP:20260421T145929
CREATED:20221129T125503Z
LAST-MODIFIED:20240518T190542Z
UID:10001018-1718380800-1718381700@www.allsaintsberkhamsted.org.uk
SUMMARY:Evening Prayer
DESCRIPTION:with Tracy Robinson
URL:https://www.allsaintsberkhamsted.org.uk/event/evening-prayer-2/2024-06-14/
LOCATION:All Saints’ Church\, Shrublands Road\, Berkhamsted\, HP4 3HY\, United Kingdom
CATEGORIES:worship
GEO:51.7618641;-0.5750555
X-APPLE-STRUCTURED-LOCATION;VALUE=URI;X-ADDRESS=All Saints’ Church Shrublands Road Berkhamsted HP4 3HY United Kingdom;X-APPLE-RADIUS=500;X-TITLE=Shrublands Road:geo:-0.5750555,51.7618641
END:VEVENT
BEGIN:VEVENT
DTSTART;TZID=Europe/London:20240616T100000
DTEND;TZID=Europe/London:20240616T110000
DTSTAMP:20260421T145929
CREATED:20240518T180105Z
LAST-MODIFIED:20240613T081819Z
UID:10001581-1718532000-1718535600@www.allsaintsberkhamsted.org.uk
SUMMARY:Morning Worship and Thanksgiving Service
DESCRIPTION:led by Revd Rachael Hawkins
URL:https://www.allsaintsberkhamsted.org.uk/event/thanksgiving-service-for-a-child/
CATEGORIES:worship
END:VEVENT
BEGIN:VEVENT
DTSTART;TZID=Europe/London:20240616T160000
DTEND;TZID=Europe/London:20240616T173000
DTSTAMP:20260421T145929
CREATED:20240518T180256Z
LAST-MODIFIED:20240518T180256Z
UID:10001582-1718553600-1718559000@www.allsaintsberkhamsted.org.uk
SUMMARY:Messy Church
DESCRIPTION:led by Revd Rachael Hawkins and the Messy Church Team
URL:https://www.allsaintsberkhamsted.org.uk/event/messy-church-27/
CATEGORIES:worship
END:VEVENT
BEGIN:VEVENT
DTSTART;TZID=Europe/London:20240618T090000
DTEND;TZID=Europe/London:20240618T091500
DTSTAMP:20260421T145929
CREATED:20230619T152758Z
LAST-MODIFIED:20240518T190334Z
UID:10000810-1718701200-1718702100@www.allsaintsberkhamsted.org.uk
SUMMARY:Morning Prayer
DESCRIPTION:with Tracy Robinson
URL:https://www.allsaintsberkhamsted.org.uk/event/morning-prayer-3-2/2024-06-18/
LOCATION:All Saints’ Church\, Shrublands Road\, Berkhamsted\, HP4 3HY\, United Kingdom
CATEGORIES:worship
GEO:51.7618641;-0.5750555
X-APPLE-STRUCTURED-LOCATION;VALUE=URI;X-ADDRESS=All Saints’ Church Shrublands Road Berkhamsted HP4 3HY United Kingdom;X-APPLE-RADIUS=500;X-TITLE=Shrublands Road:geo:-0.5750555,51.7618641
END:VEVENT
BEGIN:VEVENT
DTSTART;TZID=Europe/London:20240620T204500
DTEND;TZID=Europe/London:20240620T211500
DTSTAMP:20260421T145929
CREATED:20230825T092109Z
LAST-MODIFIED:20230825T092109Z
UID:10001498-1718916300-1718918100@www.allsaintsberkhamsted.org.uk
SUMMARY:Compline/ Night Prayer
DESCRIPTION:On Zoom only\, not in church \nThe Zoom link will be on our homepage
URL:https://www.allsaintsberkhamsted.org.uk/event/compline-night-prayer-4/2024-06-20/
CATEGORIES:worship
END:VEVENT
BEGIN:VEVENT
DTSTART;TZID=Europe/London:20240621T160000
DTEND;TZID=Europe/London:20240621T161500
DTSTAMP:20260421T145929
CREATED:20221129T125503Z
LAST-MODIFIED:20240518T190542Z
UID:10001019-1718985600-1718986500@www.allsaintsberkhamsted.org.uk
SUMMARY:Evening Prayer
DESCRIPTION:with Tracy Robinson
URL:https://www.allsaintsberkhamsted.org.uk/event/evening-prayer-2/2024-06-21/
LOCATION:All Saints’ Church\, Shrublands Road\, Berkhamsted\, HP4 3HY\, United Kingdom
CATEGORIES:worship
GEO:51.7618641;-0.5750555
X-APPLE-STRUCTURED-LOCATION;VALUE=URI;X-ADDRESS=All Saints’ Church Shrublands Road Berkhamsted HP4 3HY United Kingdom;X-APPLE-RADIUS=500;X-TITLE=Shrublands Road:geo:-0.5750555,51.7618641
END:VEVENT
BEGIN:VEVENT
DTSTART;TZID=Europe/London:20240623T100000
DTEND;TZID=Europe/London:20240623T110000
DTSTAMP:20260421T145929
CREATED:20240518T180428Z
LAST-MODIFIED:20240518T180428Z
UID:10001583-1719136800-1719140400@www.allsaintsberkhamsted.org.uk
SUMMARY:Holy Communion
DESCRIPTION:led by Revd Rachael Hawkins
URL:https://www.allsaintsberkhamsted.org.uk/event/holy-communion-70/
CATEGORIES:worship
END:VEVENT
BEGIN:VEVENT
DTSTART;TZID=Europe/London:20240625T090000
DTEND;TZID=Europe/London:20240625T091500
DTSTAMP:20260421T145929
CREATED:20230619T152758Z
LAST-MODIFIED:20240518T190334Z
UID:10000811-1719306000-1719306900@www.allsaintsberkhamsted.org.uk
SUMMARY:Morning Prayer
DESCRIPTION:with Tracy Robinson
URL:https://www.allsaintsberkhamsted.org.uk/event/morning-prayer-3-2/2024-06-25/
LOCATION:All Saints’ Church\, Shrublands Road\, Berkhamsted\, HP4 3HY\, United Kingdom
CATEGORIES:worship
GEO:51.7618641;-0.5750555
X-APPLE-STRUCTURED-LOCATION;VALUE=URI;X-ADDRESS=All Saints’ Church Shrublands Road Berkhamsted HP4 3HY United Kingdom;X-APPLE-RADIUS=500;X-TITLE=Shrublands Road:geo:-0.5750555,51.7618641
END:VEVENT
BEGIN:VEVENT
DTSTART;TZID=Europe/London:20240628T160000
DTEND;TZID=Europe/London:20240628T161500
DTSTAMP:20260421T145929
CREATED:20221129T125503Z
LAST-MODIFIED:20240518T190542Z
UID:10001020-1719590400-1719591300@www.allsaintsberkhamsted.org.uk
SUMMARY:Evening Prayer
DESCRIPTION:with Tracy Robinson
URL:https://www.allsaintsberkhamsted.org.uk/event/evening-prayer-2/2024-06-28/
LOCATION:All Saints’ Church\, Shrublands Road\, Berkhamsted\, HP4 3HY\, United Kingdom
CATEGORIES:worship
GEO:51.7618641;-0.5750555
X-APPLE-STRUCTURED-LOCATION;VALUE=URI;X-ADDRESS=All Saints’ Church Shrublands Road Berkhamsted HP4 3HY United Kingdom;X-APPLE-RADIUS=500;X-TITLE=Shrublands Road:geo:-0.5750555,51.7618641
END:VEVENT
BEGIN:VEVENT
DTSTART;TZID=Europe/London:20240630T100000
DTEND;TZID=Europe/London:20240630T110000
DTSTAMP:20260421T145929
CREATED:20240518T180604Z
LAST-MODIFIED:20240518T180604Z
UID:10001584-1719741600-1719745200@www.allsaintsberkhamsted.org.uk
SUMMARY:Holy Communion
DESCRIPTION:led by Revd Donna Fowler-Marchant
URL:https://www.allsaintsberkhamsted.org.uk/event/holy-communion-71/
CATEGORIES:worship
END:VEVENT
BEGIN:VEVENT
DTSTART;TZID=Europe/London:20240702T090000
DTEND;TZID=Europe/London:20240702T091500
DTSTAMP:20260421T145929
CREATED:20230619T152758Z
LAST-MODIFIED:20240518T190334Z
UID:10000812-1719910800-1719911700@www.allsaintsberkhamsted.org.uk
SUMMARY:Morning Prayer
DESCRIPTION:with Tracy Robinson
URL:https://www.allsaintsberkhamsted.org.uk/event/morning-prayer-3-2/2024-07-02/
LOCATION:All Saints’ Church\, Shrublands Road\, Berkhamsted\, HP4 3HY\, United Kingdom
CATEGORIES:worship
GEO:51.7618641;-0.5750555
X-APPLE-STRUCTURED-LOCATION;VALUE=URI;X-ADDRESS=All Saints’ Church Shrublands Road Berkhamsted HP4 3HY United Kingdom;X-APPLE-RADIUS=500;X-TITLE=Shrublands Road:geo:-0.5750555,51.7618641
END:VEVENT
BEGIN:VEVENT
DTSTART;TZID=Europe/London:20240704T204500
DTEND;TZID=Europe/London:20240704T211500
DTSTAMP:20260421T145929
CREATED:20230825T092109Z
LAST-MODIFIED:20230825T092109Z
UID:10001499-1720125900-1720127700@www.allsaintsberkhamsted.org.uk
SUMMARY:Compline/ Night Prayer
DESCRIPTION:On Zoom only\, not in church \nThe Zoom link will be on our homepage
URL:https://www.allsaintsberkhamsted.org.uk/event/compline-night-prayer-4/2024-07-04/
CATEGORIES:worship
END:VEVENT
BEGIN:VEVENT
DTSTART;TZID=Europe/London:20240705T160000
DTEND;TZID=Europe/London:20240705T161500
DTSTAMP:20260421T145929
CREATED:20221129T125503Z
LAST-MODIFIED:20240518T190542Z
UID:10001021-1720195200-1720196100@www.allsaintsberkhamsted.org.uk
SUMMARY:Evening Prayer
DESCRIPTION:with Tracy Robinson
URL:https://www.allsaintsberkhamsted.org.uk/event/evening-prayer-2/2024-07-05/
LOCATION:All Saints’ Church\, Shrublands Road\, Berkhamsted\, HP4 3HY\, United Kingdom
CATEGORIES:worship
GEO:51.7618641;-0.5750555
X-APPLE-STRUCTURED-LOCATION;VALUE=URI;X-ADDRESS=All Saints’ Church Shrublands Road Berkhamsted HP4 3HY United Kingdom;X-APPLE-RADIUS=500;X-TITLE=Shrublands Road:geo:-0.5750555,51.7618641
END:VEVENT
BEGIN:VEVENT
DTSTART;TZID=Europe/London:20240707T100000
DTEND;TZID=Europe/London:20240707T110000
DTSTAMP:20260421T145929
CREATED:20240518T180805Z
LAST-MODIFIED:20240518T180805Z
UID:10001585-1720346400-1720350000@www.allsaintsberkhamsted.org.uk
SUMMARY:Morning Worship
DESCRIPTION:led by Revd Rachael Hawkins
URL:https://www.allsaintsberkhamsted.org.uk/event/morning-worship-50/
CATEGORIES:worship
END:VEVENT
BEGIN:VEVENT
DTSTART;TZID=Europe/London:20240709T090000
DTEND;TZID=Europe/London:20240709T091500
DTSTAMP:20260421T145929
CREATED:20230619T152758Z
LAST-MODIFIED:20240518T190334Z
UID:10000813-1720515600-1720516500@www.allsaintsberkhamsted.org.uk
SUMMARY:Morning Prayer
DESCRIPTION:with Tracy Robinson
URL:https://www.allsaintsberkhamsted.org.uk/event/morning-prayer-3-2/2024-07-09/
LOCATION:All Saints’ Church\, Shrublands Road\, Berkhamsted\, HP4 3HY\, United Kingdom
CATEGORIES:worship
GEO:51.7618641;-0.5750555
X-APPLE-STRUCTURED-LOCATION;VALUE=URI;X-ADDRESS=All Saints’ Church Shrublands Road Berkhamsted HP4 3HY United Kingdom;X-APPLE-RADIUS=500;X-TITLE=Shrublands Road:geo:-0.5750555,51.7618641
END:VEVENT
BEGIN:VEVENT
DTSTART;TZID=Europe/London:20240712T160000
DTEND;TZID=Europe/London:20240712T161500
DTSTAMP:20260421T145929
CREATED:20221129T125503Z
LAST-MODIFIED:20240518T190542Z
UID:10001022-1720800000-1720800900@www.allsaintsberkhamsted.org.uk
SUMMARY:Evening Prayer
DESCRIPTION:with Tracy Robinson
URL:https://www.allsaintsberkhamsted.org.uk/event/evening-prayer-2/2024-07-12/
LOCATION:All Saints’ Church\, Shrublands Road\, Berkhamsted\, HP4 3HY\, United Kingdom
CATEGORIES:worship
GEO:51.7618641;-0.5750555
X-APPLE-STRUCTURED-LOCATION;VALUE=URI;X-ADDRESS=All Saints’ Church Shrublands Road Berkhamsted HP4 3HY United Kingdom;X-APPLE-RADIUS=500;X-TITLE=Shrublands Road:geo:-0.5750555,51.7618641
END:VEVENT
BEGIN:VEVENT
DTSTART;TZID=Europe/London:20240714T100000
DTEND;TZID=Europe/London:20240714T110000
DTSTAMP:20260421T145929
CREATED:20240518T181055Z
LAST-MODIFIED:20240518T181055Z
UID:10001587-1720951200-1720954800@www.allsaintsberkhamsted.org.uk
SUMMARY:Holy Communion
DESCRIPTION:led by Revd John Kirkby
URL:https://www.allsaintsberkhamsted.org.uk/event/holy-communion-72/
CATEGORIES:worship
END:VEVENT
BEGIN:VEVENT
DTSTART;TZID=Europe/London:20240714T160000
DTEND;TZID=Europe/London:20240714T173000
DTSTAMP:20260421T145929
CREATED:20240518T180928Z
LAST-MODIFIED:20240703T105012Z
UID:10001586-1720972800-1720978200@www.allsaintsberkhamsted.org.uk
SUMMARY:Messy Church
DESCRIPTION:led by Revd Rachael Hawkins and the Messy Church Team
URL:https://www.allsaintsberkhamsted.org.uk/event/messy-church-28/
CATEGORIES:worship
END:VEVENT
BEGIN:VEVENT
DTSTART;TZID=Europe/London:20240718T204500
DTEND;TZID=Europe/London:20240718T211500
DTSTAMP:20260421T145929
CREATED:20230825T092109Z
LAST-MODIFIED:20230825T092109Z
UID:10001500-1721335500-1721337300@www.allsaintsberkhamsted.org.uk
SUMMARY:Compline/ Night Prayer
DESCRIPTION:On Zoom only\, not in church \nThe Zoom link will be on our homepage
URL:https://www.allsaintsberkhamsted.org.uk/event/compline-night-prayer-4/2024-07-18/
CATEGORIES:worship
END:VEVENT
BEGIN:VEVENT
DTSTART;TZID=Europe/London:20240721T100000
DTEND;TZID=Europe/London:20240721T230000
DTSTAMP:20260421T145929
CREATED:20240518T181226Z
LAST-MODIFIED:20240518T181226Z
UID:10001588-1721556000-1721602800@www.allsaintsberkhamsted.org.uk
SUMMARY:Morning Worship - Action for Children
DESCRIPTION:led by Audrey Cox
URL:https://www.allsaintsberkhamsted.org.uk/event/morning-worship-action-for-children/
CATEGORIES:worship
END:VEVENT
BEGIN:VEVENT
DTSTART;TZID=Europe/London:20240723T090000
DTEND;TZID=Europe/London:20240723T091500
DTSTAMP:20260421T145929
CREATED:20230619T152758Z
LAST-MODIFIED:20240518T190334Z
UID:10000815-1721725200-1721726100@www.allsaintsberkhamsted.org.uk
SUMMARY:Morning Prayer
DESCRIPTION:with Tracy Robinson
URL:https://www.allsaintsberkhamsted.org.uk/event/morning-prayer-3-2/2024-07-23/
LOCATION:All Saints’ Church\, Shrublands Road\, Berkhamsted\, HP4 3HY\, United Kingdom
CATEGORIES:worship
GEO:51.7618641;-0.5750555
X-APPLE-STRUCTURED-LOCATION;VALUE=URI;X-ADDRESS=All Saints’ Church Shrublands Road Berkhamsted HP4 3HY United Kingdom;X-APPLE-RADIUS=500;X-TITLE=Shrublands Road:geo:-0.5750555,51.7618641
END:VEVENT
BEGIN:VEVENT
DTSTART;TZID=Europe/London:20240726T160000
DTEND;TZID=Europe/London:20240726T161500
DTSTAMP:20260421T145929
CREATED:20221129T125503Z
LAST-MODIFIED:20240518T190542Z
UID:10001024-1722009600-1722010500@www.allsaintsberkhamsted.org.uk
SUMMARY:Evening Prayer
DESCRIPTION:with Tracy Robinson
URL:https://www.allsaintsberkhamsted.org.uk/event/evening-prayer-2/2024-07-26/
LOCATION:All Saints’ Church\, Shrublands Road\, Berkhamsted\, HP4 3HY\, United Kingdom
CATEGORIES:worship
GEO:51.7618641;-0.5750555
X-APPLE-STRUCTURED-LOCATION;VALUE=URI;X-ADDRESS=All Saints’ Church Shrublands Road Berkhamsted HP4 3HY United Kingdom;X-APPLE-RADIUS=500;X-TITLE=Shrublands Road:geo:-0.5750555,51.7618641
END:VEVENT
BEGIN:VEVENT
DTSTART;TZID=Europe/London:20240728T100000
DTEND;TZID=Europe/London:20240728T110000
DTSTAMP:20260421T145929
CREATED:20240518T181502Z
LAST-MODIFIED:20240518T181502Z
UID:10001589-1722160800-1722164400@www.allsaintsberkhamsted.org.uk
SUMMARY:Holy Communion
DESCRIPTION:led by Revd Rachael Hawkins
URL:https://www.allsaintsberkhamsted.org.uk/event/holy-communion-73/
CATEGORIES:worship
END:VEVENT
BEGIN:VEVENT
DTSTART;TZID=Europe/London:20240730T090000
DTEND;TZID=Europe/London:20240730T091500
DTSTAMP:20260421T145929
CREATED:20230619T152758Z
LAST-MODIFIED:20240518T190334Z
UID:10000816-1722330000-1722330900@www.allsaintsberkhamsted.org.uk
SUMMARY:Morning Prayer
DESCRIPTION:with Tracy Robinson
URL:https://www.allsaintsberkhamsted.org.uk/event/morning-prayer-3-2/2024-07-30/
LOCATION:All Saints’ Church\, Shrublands Road\, Berkhamsted\, HP4 3HY\, United Kingdom
CATEGORIES:worship
GEO:51.7618641;-0.5750555
X-APPLE-STRUCTURED-LOCATION;VALUE=URI;X-ADDRESS=All Saints’ Church Shrublands Road Berkhamsted HP4 3HY United Kingdom;X-APPLE-RADIUS=500;X-TITLE=Shrublands Road:geo:-0.5750555,51.7618641
END:VEVENT
BEGIN:VEVENT
DTSTART;TZID=Europe/London:20240801T204500
DTEND;TZID=Europe/London:20240801T211500
DTSTAMP:20260421T145929
CREATED:20230825T092109Z
LAST-MODIFIED:20230825T092109Z
UID:10001501-1722545100-1722546900@www.allsaintsberkhamsted.org.uk
SUMMARY:Compline/ Night Prayer
DESCRIPTION:On Zoom only\, not in church \nThe Zoom link will be on our homepage
URL:https://www.allsaintsberkhamsted.org.uk/event/compline-night-prayer-4/2024-08-01/
CATEGORIES:worship
END:VEVENT
BEGIN:VEVENT
DTSTART;TZID=Europe/London:20240802T160000
DTEND;TZID=Europe/London:20240802T161500
DTSTAMP:20260421T145929
CREATED:20221129T125503Z
LAST-MODIFIED:20240518T190542Z
UID:10001025-1722614400-1722615300@www.allsaintsberkhamsted.org.uk
SUMMARY:Evening Prayer
DESCRIPTION:with Tracy Robinson
URL:https://www.allsaintsberkhamsted.org.uk/event/evening-prayer-2/2024-08-02/
LOCATION:All Saints’ Church\, Shrublands Road\, Berkhamsted\, HP4 3HY\, United Kingdom
CATEGORIES:worship
GEO:51.7618641;-0.5750555
X-APPLE-STRUCTURED-LOCATION;VALUE=URI;X-ADDRESS=All Saints’ Church Shrublands Road Berkhamsted HP4 3HY United Kingdom;X-APPLE-RADIUS=500;X-TITLE=Shrublands Road:geo:-0.5750555,51.7618641
END:VEVENT
BEGIN:VEVENT
DTSTART;TZID=Europe/London:20240804T100000
DTEND;TZID=Europe/London:20240804T110000
DTSTAMP:20260421T145929
CREATED:20240518T181629Z
LAST-MODIFIED:20240518T181629Z
UID:10001590-1722765600-1722769200@www.allsaintsberkhamsted.org.uk
SUMMARY:Morning Worship
DESCRIPTION:led by Richard Hackworth
URL:https://www.allsaintsberkhamsted.org.uk/event/morning-worship-51/
CATEGORIES:worship
END:VEVENT
END:VCALENDAR