BEGIN:VCALENDAR
VERSION:2.0
PRODID:-//All Saints Berkhamsted - ECPv6.15.20//NONSGML v1.0//EN
CALSCALE:GREGORIAN
METHOD:PUBLISH
X-WR-CALNAME:All Saints Berkhamsted
X-ORIGINAL-URL:https://www.allsaintsberkhamsted.org.uk
X-WR-CALDESC:Events for All Saints Berkhamsted
REFRESH-INTERVAL;VALUE=DURATION:PT1H
X-Robots-Tag:noindex
X-PUBLISHED-TTL:PT1H
BEGIN:VTIMEZONE
TZID:Europe/London
BEGIN:DAYLIGHT
TZOFFSETFROM:+0000
TZOFFSETTO:+0100
TZNAME:BST
DTSTART:20270328T010000
END:DAYLIGHT
BEGIN:STANDARD
TZOFFSETFROM:+0100
TZOFFSETTO:+0000
TZNAME:GMT
DTSTART:20271031T010000
END:STANDARD
BEGIN:DAYLIGHT
TZOFFSETFROM:+0000
TZOFFSETTO:+0100
TZNAME:BST
DTSTART:20280326T010000
END:DAYLIGHT
BEGIN:STANDARD
TZOFFSETFROM:+0100
TZOFFSETTO:+0000
TZNAME:GMT
DTSTART:20281029T010000
END:STANDARD
BEGIN:DAYLIGHT
TZOFFSETFROM:+0000
TZOFFSETTO:+0100
TZNAME:BST
DTSTART:20290325T010000
END:DAYLIGHT
BEGIN:STANDARD
TZOFFSETFROM:+0100
TZOFFSETTO:+0000
TZNAME:GMT
DTSTART:20291028T010000
END:STANDARD
BEGIN:DAYLIGHT
TZOFFSETFROM:+0000
TZOFFSETTO:+0100
TZNAME:BST
DTSTART:20300331T010000
END:DAYLIGHT
BEGIN:STANDARD
TZOFFSETFROM:+0100
TZOFFSETTO:+0000
TZNAME:GMT
DTSTART:20301027T010000
END:STANDARD
END:VTIMEZONE
BEGIN:VEVENT
DTSTART;TZID=Europe/London:20281208T160000
DTEND;TZID=Europe/London:20281208T161500
DTSTAMP:20260424T075059
CREATED:20221129T125503Z
LAST-MODIFIED:20240518T190542Z
UID:10001549-1859904000-1859904900@www.allsaintsberkhamsted.org.uk
SUMMARY:Evening Prayer
DESCRIPTION:with Tracy Robinson
URL:https://www.allsaintsberkhamsted.org.uk/event/evening-prayer-2/2028-12-08/
LOCATION:All Saints’ Church\, Shrublands Road\, Berkhamsted\, HP4 3HY\, United Kingdom
CATEGORIES:worship
GEO:51.7618641;-0.5750555
X-APPLE-STRUCTURED-LOCATION;VALUE=URI;X-ADDRESS=All Saints’ Church Shrublands Road Berkhamsted HP4 3HY United Kingdom;X-APPLE-RADIUS=500;X-TITLE=Shrublands Road:geo:-0.5750555,51.7618641
END:VEVENT
BEGIN:VEVENT
DTSTART;TZID=Europe/London:20281212T090000
DTEND;TZID=Europe/London:20281212T091500
DTSTAMP:20260424T075059
CREATED:20230619T152758Z
LAST-MODIFIED:20240518T190334Z
UID:10001624-1860224400-1860225300@www.allsaintsberkhamsted.org.uk
SUMMARY:Morning Prayer
DESCRIPTION:with Tracy Robinson
URL:https://www.allsaintsberkhamsted.org.uk/event/morning-prayer-3-2/2028-12-12/
LOCATION:All Saints’ Church\, Shrublands Road\, Berkhamsted\, HP4 3HY\, United Kingdom
CATEGORIES:worship
GEO:51.7618641;-0.5750555
X-APPLE-STRUCTURED-LOCATION;VALUE=URI;X-ADDRESS=All Saints’ Church Shrublands Road Berkhamsted HP4 3HY United Kingdom;X-APPLE-RADIUS=500;X-TITLE=Shrublands Road:geo:-0.5750555,51.7618641
END:VEVENT
BEGIN:VEVENT
DTSTART;TZID=Europe/London:20281212T093000
DTEND;TZID=Europe/London:20281212T100000
DTSTAMP:20260424T075059
CREATED:20241107T184220Z
LAST-MODIFIED:20241107T184220Z
UID:10001916-1860226200-1860228000@www.allsaintsberkhamsted.org.uk
SUMMARY:Eucharist
DESCRIPTION:
URL:https://www.allsaintsberkhamsted.org.uk/event/eucharist/2028-12-12/
LOCATION:All Saints’ Church\, Shrublands Road\, Berkhamsted\, HP4 3HY\, United Kingdom
CATEGORIES:worship
GEO:51.7618641;-0.5750555
X-APPLE-STRUCTURED-LOCATION;VALUE=URI;X-ADDRESS=All Saints’ Church Shrublands Road Berkhamsted HP4 3HY United Kingdom;X-APPLE-RADIUS=500;X-TITLE=Shrublands Road:geo:-0.5750555,51.7618641
END:VEVENT
BEGIN:VEVENT
DTSTART;TZID=Europe/London:20281214T204500
DTEND;TZID=Europe/London:20281214T211500
DTSTAMP:20260424T075059
CREATED:20250402T135535Z
LAST-MODIFIED:20250402T135535Z
UID:10002090-1860439500-1860441300@www.allsaintsberkhamsted.org.uk
SUMMARY:Compline (Night Prayer)
DESCRIPTION:On Zoom only\,  not in church – fortnightly on Thursday evenings \nThe Zoom link will be available on our homepage
URL:https://www.allsaintsberkhamsted.org.uk/event/compline-night-prayer-5/2028-12-14/
LOCATION:All Saints’ Church\, Shrublands Road\, Berkhamsted\, HP4 3HY\, United Kingdom
CATEGORIES:worship
GEO:51.7618641;-0.5750555
X-APPLE-STRUCTURED-LOCATION;VALUE=URI;X-ADDRESS=All Saints’ Church Shrublands Road Berkhamsted HP4 3HY United Kingdom;X-APPLE-RADIUS=500;X-TITLE=Shrublands Road:geo:-0.5750555,51.7618641
END:VEVENT
BEGIN:VEVENT
DTSTART;TZID=Europe/London:20281215T160000
DTEND;TZID=Europe/London:20281215T161500
DTSTAMP:20260424T075059
CREATED:20221129T125503Z
LAST-MODIFIED:20240518T190542Z
UID:10001550-1860508800-1860509700@www.allsaintsberkhamsted.org.uk
SUMMARY:Evening Prayer
DESCRIPTION:with Tracy Robinson
URL:https://www.allsaintsberkhamsted.org.uk/event/evening-prayer-2/2028-12-15/
LOCATION:All Saints’ Church\, Shrublands Road\, Berkhamsted\, HP4 3HY\, United Kingdom
CATEGORIES:worship
GEO:51.7618641;-0.5750555
X-APPLE-STRUCTURED-LOCATION;VALUE=URI;X-ADDRESS=All Saints’ Church Shrublands Road Berkhamsted HP4 3HY United Kingdom;X-APPLE-RADIUS=500;X-TITLE=Shrublands Road:geo:-0.5750555,51.7618641
END:VEVENT
BEGIN:VEVENT
DTSTART;TZID=Europe/London:20281219T090000
DTEND;TZID=Europe/London:20281219T091500
DTSTAMP:20260424T075059
CREATED:20230619T152758Z
LAST-MODIFIED:20240518T190334Z
UID:10001625-1860829200-1860830100@www.allsaintsberkhamsted.org.uk
SUMMARY:Morning Prayer
DESCRIPTION:with Tracy Robinson
URL:https://www.allsaintsberkhamsted.org.uk/event/morning-prayer-3-2/2028-12-19/
LOCATION:All Saints’ Church\, Shrublands Road\, Berkhamsted\, HP4 3HY\, United Kingdom
CATEGORIES:worship
GEO:51.7618641;-0.5750555
X-APPLE-STRUCTURED-LOCATION;VALUE=URI;X-ADDRESS=All Saints’ Church Shrublands Road Berkhamsted HP4 3HY United Kingdom;X-APPLE-RADIUS=500;X-TITLE=Shrublands Road:geo:-0.5750555,51.7618641
END:VEVENT
BEGIN:VEVENT
DTSTART;TZID=Europe/London:20281219T093000
DTEND;TZID=Europe/London:20281219T100000
DTSTAMP:20260424T075059
CREATED:20241107T184220Z
LAST-MODIFIED:20241107T184220Z
UID:10001917-1860831000-1860832800@www.allsaintsberkhamsted.org.uk
SUMMARY:Eucharist
DESCRIPTION:
URL:https://www.allsaintsberkhamsted.org.uk/event/eucharist/2028-12-19/
LOCATION:All Saints’ Church\, Shrublands Road\, Berkhamsted\, HP4 3HY\, United Kingdom
CATEGORIES:worship
GEO:51.7618641;-0.5750555
X-APPLE-STRUCTURED-LOCATION;VALUE=URI;X-ADDRESS=All Saints’ Church Shrublands Road Berkhamsted HP4 3HY United Kingdom;X-APPLE-RADIUS=500;X-TITLE=Shrublands Road:geo:-0.5750555,51.7618641
END:VEVENT
BEGIN:VEVENT
DTSTART;TZID=Europe/London:20281222T160000
DTEND;TZID=Europe/London:20281222T161500
DTSTAMP:20260424T075059
CREATED:20221129T125503Z
LAST-MODIFIED:20240518T190542Z
UID:10001647-1861113600-1861114500@www.allsaintsberkhamsted.org.uk
SUMMARY:Evening Prayer
DESCRIPTION:with Tracy Robinson
URL:https://www.allsaintsberkhamsted.org.uk/event/evening-prayer-2/2028-12-22/
LOCATION:All Saints’ Church\, Shrublands Road\, Berkhamsted\, HP4 3HY\, United Kingdom
CATEGORIES:worship
GEO:51.7618641;-0.5750555
X-APPLE-STRUCTURED-LOCATION;VALUE=URI;X-ADDRESS=All Saints’ Church Shrublands Road Berkhamsted HP4 3HY United Kingdom;X-APPLE-RADIUS=500;X-TITLE=Shrublands Road:geo:-0.5750555,51.7618641
END:VEVENT
BEGIN:VEVENT
DTSTART;TZID=Europe/London:20281226T090000
DTEND;TZID=Europe/London:20281226T091500
DTSTAMP:20260424T075059
CREATED:20230619T152758Z
LAST-MODIFIED:20240518T190334Z
UID:10001626-1861434000-1861434900@www.allsaintsberkhamsted.org.uk
SUMMARY:Morning Prayer
DESCRIPTION:with Tracy Robinson
URL:https://www.allsaintsberkhamsted.org.uk/event/morning-prayer-3-2/2028-12-26/
LOCATION:All Saints’ Church\, Shrublands Road\, Berkhamsted\, HP4 3HY\, United Kingdom
CATEGORIES:worship
GEO:51.7618641;-0.5750555
X-APPLE-STRUCTURED-LOCATION;VALUE=URI;X-ADDRESS=All Saints’ Church Shrublands Road Berkhamsted HP4 3HY United Kingdom;X-APPLE-RADIUS=500;X-TITLE=Shrublands Road:geo:-0.5750555,51.7618641
END:VEVENT
BEGIN:VEVENT
DTSTART;TZID=Europe/London:20281226T093000
DTEND;TZID=Europe/London:20281226T100000
DTSTAMP:20260424T075059
CREATED:20241107T184220Z
LAST-MODIFIED:20241107T184220Z
UID:10001918-1861435800-1861437600@www.allsaintsberkhamsted.org.uk
SUMMARY:Eucharist
DESCRIPTION:
URL:https://www.allsaintsberkhamsted.org.uk/event/eucharist/2028-12-26/
LOCATION:All Saints’ Church\, Shrublands Road\, Berkhamsted\, HP4 3HY\, United Kingdom
CATEGORIES:worship
GEO:51.7618641;-0.5750555
X-APPLE-STRUCTURED-LOCATION;VALUE=URI;X-ADDRESS=All Saints’ Church Shrublands Road Berkhamsted HP4 3HY United Kingdom;X-APPLE-RADIUS=500;X-TITLE=Shrublands Road:geo:-0.5750555,51.7618641
END:VEVENT
BEGIN:VEVENT
DTSTART;TZID=Europe/London:20281228T204500
DTEND;TZID=Europe/London:20281228T211500
DTSTAMP:20260424T075059
CREATED:20250402T135535Z
LAST-MODIFIED:20250402T135535Z
UID:10002091-1861649100-1861650900@www.allsaintsberkhamsted.org.uk
SUMMARY:Compline (Night Prayer)
DESCRIPTION:On Zoom only\,  not in church – fortnightly on Thursday evenings \nThe Zoom link will be available on our homepage
URL:https://www.allsaintsberkhamsted.org.uk/event/compline-night-prayer-5/2028-12-28/
LOCATION:All Saints’ Church\, Shrublands Road\, Berkhamsted\, HP4 3HY\, United Kingdom
CATEGORIES:worship
GEO:51.7618641;-0.5750555
X-APPLE-STRUCTURED-LOCATION;VALUE=URI;X-ADDRESS=All Saints’ Church Shrublands Road Berkhamsted HP4 3HY United Kingdom;X-APPLE-RADIUS=500;X-TITLE=Shrublands Road:geo:-0.5750555,51.7618641
END:VEVENT
BEGIN:VEVENT
DTSTART;TZID=Europe/London:20281229T160000
DTEND;TZID=Europe/London:20281229T161500
DTSTAMP:20260424T075059
CREATED:20221129T125503Z
LAST-MODIFIED:20240518T190542Z
UID:10001648-1861718400-1861719300@www.allsaintsberkhamsted.org.uk
SUMMARY:Evening Prayer
DESCRIPTION:with Tracy Robinson
URL:https://www.allsaintsberkhamsted.org.uk/event/evening-prayer-2/2028-12-29/
LOCATION:All Saints’ Church\, Shrublands Road\, Berkhamsted\, HP4 3HY\, United Kingdom
CATEGORIES:worship
GEO:51.7618641;-0.5750555
X-APPLE-STRUCTURED-LOCATION;VALUE=URI;X-ADDRESS=All Saints’ Church Shrublands Road Berkhamsted HP4 3HY United Kingdom;X-APPLE-RADIUS=500;X-TITLE=Shrublands Road:geo:-0.5750555,51.7618641
END:VEVENT
BEGIN:VEVENT
DTSTART;TZID=Europe/London:20290102T090000
DTEND;TZID=Europe/London:20290102T091500
DTSTAMP:20260424T075059
CREATED:20230619T152758Z
LAST-MODIFIED:20240518T190334Z
UID:10001627-1862038800-1862039700@www.allsaintsberkhamsted.org.uk
SUMMARY:Morning Prayer
DESCRIPTION:with Tracy Robinson
URL:https://www.allsaintsberkhamsted.org.uk/event/morning-prayer-3-2/2029-01-02/
LOCATION:All Saints’ Church\, Shrublands Road\, Berkhamsted\, HP4 3HY\, United Kingdom
CATEGORIES:worship
GEO:51.7618641;-0.5750555
X-APPLE-STRUCTURED-LOCATION;VALUE=URI;X-ADDRESS=All Saints’ Church Shrublands Road Berkhamsted HP4 3HY United Kingdom;X-APPLE-RADIUS=500;X-TITLE=Shrublands Road:geo:-0.5750555,51.7618641
END:VEVENT
BEGIN:VEVENT
DTSTART;TZID=Europe/London:20290102T093000
DTEND;TZID=Europe/London:20290102T100000
DTSTAMP:20260424T075059
CREATED:20241107T184220Z
LAST-MODIFIED:20241107T184220Z
UID:10001919-1862040600-1862042400@www.allsaintsberkhamsted.org.uk
SUMMARY:Eucharist
DESCRIPTION:
URL:https://www.allsaintsberkhamsted.org.uk/event/eucharist/2029-01-02/
LOCATION:All Saints’ Church\, Shrublands Road\, Berkhamsted\, HP4 3HY\, United Kingdom
CATEGORIES:worship
GEO:51.7618641;-0.5750555
X-APPLE-STRUCTURED-LOCATION;VALUE=URI;X-ADDRESS=All Saints’ Church Shrublands Road Berkhamsted HP4 3HY United Kingdom;X-APPLE-RADIUS=500;X-TITLE=Shrublands Road:geo:-0.5750555,51.7618641
END:VEVENT
BEGIN:VEVENT
DTSTART;TZID=Europe/London:20290105T160000
DTEND;TZID=Europe/London:20290105T161500
DTSTAMP:20260424T075059
CREATED:20221129T125503Z
LAST-MODIFIED:20240518T190542Z
UID:10001649-1862323200-1862324100@www.allsaintsberkhamsted.org.uk
SUMMARY:Evening Prayer
DESCRIPTION:with Tracy Robinson
URL:https://www.allsaintsberkhamsted.org.uk/event/evening-prayer-2/2029-01-05/
LOCATION:All Saints’ Church\, Shrublands Road\, Berkhamsted\, HP4 3HY\, United Kingdom
CATEGORIES:worship
GEO:51.7618641;-0.5750555
X-APPLE-STRUCTURED-LOCATION;VALUE=URI;X-ADDRESS=All Saints’ Church Shrublands Road Berkhamsted HP4 3HY United Kingdom;X-APPLE-RADIUS=500;X-TITLE=Shrublands Road:geo:-0.5750555,51.7618641
END:VEVENT
BEGIN:VEVENT
DTSTART;TZID=Europe/London:20290109T090000
DTEND;TZID=Europe/London:20290109T091500
DTSTAMP:20260424T075059
CREATED:20230619T152758Z
LAST-MODIFIED:20240518T190334Z
UID:10001628-1862643600-1862644500@www.allsaintsberkhamsted.org.uk
SUMMARY:Morning Prayer
DESCRIPTION:with Tracy Robinson
URL:https://www.allsaintsberkhamsted.org.uk/event/morning-prayer-3-2/2029-01-09/
LOCATION:All Saints’ Church\, Shrublands Road\, Berkhamsted\, HP4 3HY\, United Kingdom
CATEGORIES:worship
GEO:51.7618641;-0.5750555
X-APPLE-STRUCTURED-LOCATION;VALUE=URI;X-ADDRESS=All Saints’ Church Shrublands Road Berkhamsted HP4 3HY United Kingdom;X-APPLE-RADIUS=500;X-TITLE=Shrublands Road:geo:-0.5750555,51.7618641
END:VEVENT
BEGIN:VEVENT
DTSTART;TZID=Europe/London:20290109T093000
DTEND;TZID=Europe/London:20290109T100000
DTSTAMP:20260424T075059
CREATED:20241107T184220Z
LAST-MODIFIED:20241107T184220Z
UID:10001920-1862645400-1862647200@www.allsaintsberkhamsted.org.uk
SUMMARY:Eucharist
DESCRIPTION:
URL:https://www.allsaintsberkhamsted.org.uk/event/eucharist/2029-01-09/
LOCATION:All Saints’ Church\, Shrublands Road\, Berkhamsted\, HP4 3HY\, United Kingdom
CATEGORIES:worship
GEO:51.7618641;-0.5750555
X-APPLE-STRUCTURED-LOCATION;VALUE=URI;X-ADDRESS=All Saints’ Church Shrublands Road Berkhamsted HP4 3HY United Kingdom;X-APPLE-RADIUS=500;X-TITLE=Shrublands Road:geo:-0.5750555,51.7618641
END:VEVENT
BEGIN:VEVENT
DTSTART;TZID=Europe/London:20290111T204500
DTEND;TZID=Europe/London:20290111T211500
DTSTAMP:20260424T075059
CREATED:20250402T135535Z
LAST-MODIFIED:20250402T135535Z
UID:10002092-1862858700-1862860500@www.allsaintsberkhamsted.org.uk
SUMMARY:Compline (Night Prayer)
DESCRIPTION:On Zoom only\,  not in church – fortnightly on Thursday evenings \nThe Zoom link will be available on our homepage
URL:https://www.allsaintsberkhamsted.org.uk/event/compline-night-prayer-5/2029-01-11/
LOCATION:All Saints’ Church\, Shrublands Road\, Berkhamsted\, HP4 3HY\, United Kingdom
CATEGORIES:worship
GEO:51.7618641;-0.5750555
X-APPLE-STRUCTURED-LOCATION;VALUE=URI;X-ADDRESS=All Saints’ Church Shrublands Road Berkhamsted HP4 3HY United Kingdom;X-APPLE-RADIUS=500;X-TITLE=Shrublands Road:geo:-0.5750555,51.7618641
END:VEVENT
BEGIN:VEVENT
DTSTART;TZID=Europe/London:20290112T160000
DTEND;TZID=Europe/London:20290112T161500
DTSTAMP:20260424T075059
CREATED:20221129T125503Z
LAST-MODIFIED:20240518T190542Z
UID:10001650-1862928000-1862928900@www.allsaintsberkhamsted.org.uk
SUMMARY:Evening Prayer
DESCRIPTION:with Tracy Robinson
URL:https://www.allsaintsberkhamsted.org.uk/event/evening-prayer-2/2029-01-12/
LOCATION:All Saints’ Church\, Shrublands Road\, Berkhamsted\, HP4 3HY\, United Kingdom
CATEGORIES:worship
GEO:51.7618641;-0.5750555
X-APPLE-STRUCTURED-LOCATION;VALUE=URI;X-ADDRESS=All Saints’ Church Shrublands Road Berkhamsted HP4 3HY United Kingdom;X-APPLE-RADIUS=500;X-TITLE=Shrublands Road:geo:-0.5750555,51.7618641
END:VEVENT
BEGIN:VEVENT
DTSTART;TZID=Europe/London:20290116T090000
DTEND;TZID=Europe/London:20290116T091500
DTSTAMP:20260424T075059
CREATED:20230619T152758Z
LAST-MODIFIED:20240518T190334Z
UID:10001629-1863248400-1863249300@www.allsaintsberkhamsted.org.uk
SUMMARY:Morning Prayer
DESCRIPTION:with Tracy Robinson
URL:https://www.allsaintsberkhamsted.org.uk/event/morning-prayer-3-2/2029-01-16/
LOCATION:All Saints’ Church\, Shrublands Road\, Berkhamsted\, HP4 3HY\, United Kingdom
CATEGORIES:worship
GEO:51.7618641;-0.5750555
X-APPLE-STRUCTURED-LOCATION;VALUE=URI;X-ADDRESS=All Saints’ Church Shrublands Road Berkhamsted HP4 3HY United Kingdom;X-APPLE-RADIUS=500;X-TITLE=Shrublands Road:geo:-0.5750555,51.7618641
END:VEVENT
BEGIN:VEVENT
DTSTART;TZID=Europe/London:20290116T093000
DTEND;TZID=Europe/London:20290116T100000
DTSTAMP:20260424T075059
CREATED:20241107T184220Z
LAST-MODIFIED:20241107T184220Z
UID:10001921-1863250200-1863252000@www.allsaintsberkhamsted.org.uk
SUMMARY:Eucharist
DESCRIPTION:
URL:https://www.allsaintsberkhamsted.org.uk/event/eucharist/2029-01-16/
LOCATION:All Saints’ Church\, Shrublands Road\, Berkhamsted\, HP4 3HY\, United Kingdom
CATEGORIES:worship
GEO:51.7618641;-0.5750555
X-APPLE-STRUCTURED-LOCATION;VALUE=URI;X-ADDRESS=All Saints’ Church Shrublands Road Berkhamsted HP4 3HY United Kingdom;X-APPLE-RADIUS=500;X-TITLE=Shrublands Road:geo:-0.5750555,51.7618641
END:VEVENT
BEGIN:VEVENT
DTSTART;TZID=Europe/London:20290119T160000
DTEND;TZID=Europe/London:20290119T161500
DTSTAMP:20260424T075059
CREATED:20221129T125503Z
LAST-MODIFIED:20240518T190542Z
UID:10001651-1863532800-1863533700@www.allsaintsberkhamsted.org.uk
SUMMARY:Evening Prayer
DESCRIPTION:with Tracy Robinson
URL:https://www.allsaintsberkhamsted.org.uk/event/evening-prayer-2/2029-01-19/
LOCATION:All Saints’ Church\, Shrublands Road\, Berkhamsted\, HP4 3HY\, United Kingdom
CATEGORIES:worship
GEO:51.7618641;-0.5750555
X-APPLE-STRUCTURED-LOCATION;VALUE=URI;X-ADDRESS=All Saints’ Church Shrublands Road Berkhamsted HP4 3HY United Kingdom;X-APPLE-RADIUS=500;X-TITLE=Shrublands Road:geo:-0.5750555,51.7618641
END:VEVENT
BEGIN:VEVENT
DTSTART;TZID=Europe/London:20290123T090000
DTEND;TZID=Europe/London:20290123T091500
DTSTAMP:20260424T075059
CREATED:20230619T152758Z
LAST-MODIFIED:20240518T190334Z
UID:10001630-1863853200-1863854100@www.allsaintsberkhamsted.org.uk
SUMMARY:Morning Prayer
DESCRIPTION:with Tracy Robinson
URL:https://www.allsaintsberkhamsted.org.uk/event/morning-prayer-3-2/2029-01-23/
LOCATION:All Saints’ Church\, Shrublands Road\, Berkhamsted\, HP4 3HY\, United Kingdom
CATEGORIES:worship
GEO:51.7618641;-0.5750555
X-APPLE-STRUCTURED-LOCATION;VALUE=URI;X-ADDRESS=All Saints’ Church Shrublands Road Berkhamsted HP4 3HY United Kingdom;X-APPLE-RADIUS=500;X-TITLE=Shrublands Road:geo:-0.5750555,51.7618641
END:VEVENT
BEGIN:VEVENT
DTSTART;TZID=Europe/London:20290123T093000
DTEND;TZID=Europe/London:20290123T100000
DTSTAMP:20260424T075059
CREATED:20241107T184220Z
LAST-MODIFIED:20241107T184220Z
UID:10001922-1863855000-1863856800@www.allsaintsberkhamsted.org.uk
SUMMARY:Eucharist
DESCRIPTION:
URL:https://www.allsaintsberkhamsted.org.uk/event/eucharist/2029-01-23/
LOCATION:All Saints’ Church\, Shrublands Road\, Berkhamsted\, HP4 3HY\, United Kingdom
CATEGORIES:worship
GEO:51.7618641;-0.5750555
X-APPLE-STRUCTURED-LOCATION;VALUE=URI;X-ADDRESS=All Saints’ Church Shrublands Road Berkhamsted HP4 3HY United Kingdom;X-APPLE-RADIUS=500;X-TITLE=Shrublands Road:geo:-0.5750555,51.7618641
END:VEVENT
BEGIN:VEVENT
DTSTART;TZID=Europe/London:20290125T204500
DTEND;TZID=Europe/London:20290125T211500
DTSTAMP:20260424T075059
CREATED:20250402T135535Z
LAST-MODIFIED:20250402T135535Z
UID:10002093-1864068300-1864070100@www.allsaintsberkhamsted.org.uk
SUMMARY:Compline (Night Prayer)
DESCRIPTION:On Zoom only\,  not in church – fortnightly on Thursday evenings \nThe Zoom link will be available on our homepage
URL:https://www.allsaintsberkhamsted.org.uk/event/compline-night-prayer-5/2029-01-25/
LOCATION:All Saints’ Church\, Shrublands Road\, Berkhamsted\, HP4 3HY\, United Kingdom
CATEGORIES:worship
GEO:51.7618641;-0.5750555
X-APPLE-STRUCTURED-LOCATION;VALUE=URI;X-ADDRESS=All Saints’ Church Shrublands Road Berkhamsted HP4 3HY United Kingdom;X-APPLE-RADIUS=500;X-TITLE=Shrublands Road:geo:-0.5750555,51.7618641
END:VEVENT
BEGIN:VEVENT
DTSTART;TZID=Europe/London:20290126T160000
DTEND;TZID=Europe/London:20290126T161500
DTSTAMP:20260424T075059
CREATED:20221129T125503Z
LAST-MODIFIED:20240518T190542Z
UID:10001652-1864137600-1864138500@www.allsaintsberkhamsted.org.uk
SUMMARY:Evening Prayer
DESCRIPTION:with Tracy Robinson
URL:https://www.allsaintsberkhamsted.org.uk/event/evening-prayer-2/2029-01-26/
LOCATION:All Saints’ Church\, Shrublands Road\, Berkhamsted\, HP4 3HY\, United Kingdom
CATEGORIES:worship
GEO:51.7618641;-0.5750555
X-APPLE-STRUCTURED-LOCATION;VALUE=URI;X-ADDRESS=All Saints’ Church Shrublands Road Berkhamsted HP4 3HY United Kingdom;X-APPLE-RADIUS=500;X-TITLE=Shrublands Road:geo:-0.5750555,51.7618641
END:VEVENT
BEGIN:VEVENT
DTSTART;TZID=Europe/London:20290130T090000
DTEND;TZID=Europe/London:20290130T091500
DTSTAMP:20260424T075059
CREATED:20230619T152758Z
LAST-MODIFIED:20240518T190334Z
UID:10001631-1864458000-1864458900@www.allsaintsberkhamsted.org.uk
SUMMARY:Morning Prayer
DESCRIPTION:with Tracy Robinson
URL:https://www.allsaintsberkhamsted.org.uk/event/morning-prayer-3-2/2029-01-30/
LOCATION:All Saints’ Church\, Shrublands Road\, Berkhamsted\, HP4 3HY\, United Kingdom
CATEGORIES:worship
GEO:51.7618641;-0.5750555
X-APPLE-STRUCTURED-LOCATION;VALUE=URI;X-ADDRESS=All Saints’ Church Shrublands Road Berkhamsted HP4 3HY United Kingdom;X-APPLE-RADIUS=500;X-TITLE=Shrublands Road:geo:-0.5750555,51.7618641
END:VEVENT
BEGIN:VEVENT
DTSTART;TZID=Europe/London:20290130T093000
DTEND;TZID=Europe/London:20290130T100000
DTSTAMP:20260424T075059
CREATED:20241107T184220Z
LAST-MODIFIED:20241107T184220Z
UID:10001923-1864459800-1864461600@www.allsaintsberkhamsted.org.uk
SUMMARY:Eucharist
DESCRIPTION:
URL:https://www.allsaintsberkhamsted.org.uk/event/eucharist/2029-01-30/
LOCATION:All Saints’ Church\, Shrublands Road\, Berkhamsted\, HP4 3HY\, United Kingdom
CATEGORIES:worship
GEO:51.7618641;-0.5750555
X-APPLE-STRUCTURED-LOCATION;VALUE=URI;X-ADDRESS=All Saints’ Church Shrublands Road Berkhamsted HP4 3HY United Kingdom;X-APPLE-RADIUS=500;X-TITLE=Shrublands Road:geo:-0.5750555,51.7618641
END:VEVENT
BEGIN:VEVENT
DTSTART;TZID=Europe/London:20290202T160000
DTEND;TZID=Europe/London:20290202T161500
DTSTAMP:20260424T075059
CREATED:20221129T125503Z
LAST-MODIFIED:20240518T190542Z
UID:10001653-1864742400-1864743300@www.allsaintsberkhamsted.org.uk
SUMMARY:Evening Prayer
DESCRIPTION:with Tracy Robinson
URL:https://www.allsaintsberkhamsted.org.uk/event/evening-prayer-2/2029-02-02/
LOCATION:All Saints’ Church\, Shrublands Road\, Berkhamsted\, HP4 3HY\, United Kingdom
CATEGORIES:worship
GEO:51.7618641;-0.5750555
X-APPLE-STRUCTURED-LOCATION;VALUE=URI;X-ADDRESS=All Saints’ Church Shrublands Road Berkhamsted HP4 3HY United Kingdom;X-APPLE-RADIUS=500;X-TITLE=Shrublands Road:geo:-0.5750555,51.7618641
END:VEVENT
BEGIN:VEVENT
DTSTART;TZID=Europe/London:20290206T090000
DTEND;TZID=Europe/London:20290206T091500
DTSTAMP:20260424T075059
CREATED:20230619T152758Z
LAST-MODIFIED:20240518T190334Z
UID:10001632-1865062800-1865063700@www.allsaintsberkhamsted.org.uk
SUMMARY:Morning Prayer
DESCRIPTION:with Tracy Robinson
URL:https://www.allsaintsberkhamsted.org.uk/event/morning-prayer-3-2/2029-02-06/
LOCATION:All Saints’ Church\, Shrublands Road\, Berkhamsted\, HP4 3HY\, United Kingdom
CATEGORIES:worship
GEO:51.7618641;-0.5750555
X-APPLE-STRUCTURED-LOCATION;VALUE=URI;X-ADDRESS=All Saints’ Church Shrublands Road Berkhamsted HP4 3HY United Kingdom;X-APPLE-RADIUS=500;X-TITLE=Shrublands Road:geo:-0.5750555,51.7618641
END:VEVENT
END:VCALENDAR