BEGIN:VCALENDAR
VERSION:2.0
PRODID:-//All Saints Berkhamsted - ECPv6.15.20//NONSGML v1.0//EN
CALSCALE:GREGORIAN
METHOD:PUBLISH
X-WR-CALNAME:All Saints Berkhamsted
X-ORIGINAL-URL:https://www.allsaintsberkhamsted.org.uk
X-WR-CALDESC:Events for All Saints Berkhamsted
REFRESH-INTERVAL;VALUE=DURATION:PT1H
X-Robots-Tag:noindex
X-PUBLISHED-TTL:PT1H
BEGIN:VTIMEZONE
TZID:Europe/London
BEGIN:DAYLIGHT
TZOFFSETFROM:+0000
TZOFFSETTO:+0100
TZNAME:BST
DTSTART:20270328T010000
END:DAYLIGHT
BEGIN:STANDARD
TZOFFSETFROM:+0100
TZOFFSETTO:+0000
TZNAME:GMT
DTSTART:20271031T010000
END:STANDARD
BEGIN:DAYLIGHT
TZOFFSETFROM:+0000
TZOFFSETTO:+0100
TZNAME:BST
DTSTART:20280326T010000
END:DAYLIGHT
BEGIN:STANDARD
TZOFFSETFROM:+0100
TZOFFSETTO:+0000
TZNAME:GMT
DTSTART:20281029T010000
END:STANDARD
BEGIN:DAYLIGHT
TZOFFSETFROM:+0000
TZOFFSETTO:+0100
TZNAME:BST
DTSTART:20290325T010000
END:DAYLIGHT
BEGIN:STANDARD
TZOFFSETFROM:+0100
TZOFFSETTO:+0000
TZNAME:GMT
DTSTART:20291028T010000
END:STANDARD
END:VTIMEZONE
BEGIN:VEVENT
DTSTART;TZID=Europe/London:20280530T093000
DTEND;TZID=Europe/London:20280530T100000
DTSTAMP:20260424T012544
CREATED:20241107T184220Z
LAST-MODIFIED:20241107T184220Z
UID:10001888-1843291800-1843293600@www.allsaintsberkhamsted.org.uk
SUMMARY:Eucharist
DESCRIPTION:
URL:https://www.allsaintsberkhamsted.org.uk/event/eucharist/2028-05-30/
LOCATION:All Saints’ Church\, Shrublands Road\, Berkhamsted\, HP4 3HY\, United Kingdom
CATEGORIES:worship
GEO:51.7618641;-0.5750555
X-APPLE-STRUCTURED-LOCATION;VALUE=URI;X-ADDRESS=All Saints’ Church Shrublands Road Berkhamsted HP4 3HY United Kingdom;X-APPLE-RADIUS=500;X-TITLE=Shrublands Road:geo:-0.5750555,51.7618641
END:VEVENT
BEGIN:VEVENT
DTSTART;TZID=Europe/London:20280530T090000
DTEND;TZID=Europe/London:20280530T091500
DTSTAMP:20260424T012544
CREATED:20230619T152758Z
LAST-MODIFIED:20240518T190334Z
UID:10001273-1843290000-1843290900@www.allsaintsberkhamsted.org.uk
SUMMARY:Morning Prayer
DESCRIPTION:with Tracy Robinson
URL:https://www.allsaintsberkhamsted.org.uk/event/morning-prayer-3-2/2028-05-30/
LOCATION:All Saints’ Church\, Shrublands Road\, Berkhamsted\, HP4 3HY\, United Kingdom
CATEGORIES:worship
GEO:51.7618641;-0.5750555
X-APPLE-STRUCTURED-LOCATION;VALUE=URI;X-ADDRESS=All Saints’ Church Shrublands Road Berkhamsted HP4 3HY United Kingdom;X-APPLE-RADIUS=500;X-TITLE=Shrublands Road:geo:-0.5750555,51.7618641
END:VEVENT
BEGIN:VEVENT
DTSTART;TZID=Europe/London:20280526T160000
DTEND;TZID=Europe/London:20280526T161500
DTSTAMP:20260424T012544
CREATED:20221129T125503Z
LAST-MODIFIED:20240518T190542Z
UID:10001457-1842969600-1842970500@www.allsaintsberkhamsted.org.uk
SUMMARY:Evening Prayer
DESCRIPTION:with Tracy Robinson
URL:https://www.allsaintsberkhamsted.org.uk/event/evening-prayer-2/2028-05-26/
LOCATION:All Saints’ Church\, Shrublands Road\, Berkhamsted\, HP4 3HY\, United Kingdom
CATEGORIES:worship
GEO:51.7618641;-0.5750555
X-APPLE-STRUCTURED-LOCATION;VALUE=URI;X-ADDRESS=All Saints’ Church Shrublands Road Berkhamsted HP4 3HY United Kingdom;X-APPLE-RADIUS=500;X-TITLE=Shrublands Road:geo:-0.5750555,51.7618641
END:VEVENT
BEGIN:VEVENT
DTSTART;TZID=Europe/London:20280523T093000
DTEND;TZID=Europe/London:20280523T100000
DTSTAMP:20260424T012544
CREATED:20241107T184220Z
LAST-MODIFIED:20241107T184220Z
UID:10001887-1842687000-1842688800@www.allsaintsberkhamsted.org.uk
SUMMARY:Eucharist
DESCRIPTION:
URL:https://www.allsaintsberkhamsted.org.uk/event/eucharist/2028-05-23/
LOCATION:All Saints’ Church\, Shrublands Road\, Berkhamsted\, HP4 3HY\, United Kingdom
CATEGORIES:worship
GEO:51.7618641;-0.5750555
X-APPLE-STRUCTURED-LOCATION;VALUE=URI;X-ADDRESS=All Saints’ Church Shrublands Road Berkhamsted HP4 3HY United Kingdom;X-APPLE-RADIUS=500;X-TITLE=Shrublands Road:geo:-0.5750555,51.7618641
END:VEVENT
BEGIN:VEVENT
DTSTART;TZID=Europe/London:20280523T090000
DTEND;TZID=Europe/London:20280523T091500
DTSTAMP:20260424T012544
CREATED:20230619T152758Z
LAST-MODIFIED:20240518T190334Z
UID:10001272-1842685200-1842686100@www.allsaintsberkhamsted.org.uk
SUMMARY:Morning Prayer
DESCRIPTION:with Tracy Robinson
URL:https://www.allsaintsberkhamsted.org.uk/event/morning-prayer-3-2/2028-05-23/
LOCATION:All Saints’ Church\, Shrublands Road\, Berkhamsted\, HP4 3HY\, United Kingdom
CATEGORIES:worship
GEO:51.7618641;-0.5750555
X-APPLE-STRUCTURED-LOCATION;VALUE=URI;X-ADDRESS=All Saints’ Church Shrublands Road Berkhamsted HP4 3HY United Kingdom;X-APPLE-RADIUS=500;X-TITLE=Shrublands Road:geo:-0.5750555,51.7618641
END:VEVENT
BEGIN:VEVENT
DTSTART;TZID=Europe/London:20280519T160000
DTEND;TZID=Europe/London:20280519T161500
DTSTAMP:20260424T012544
CREATED:20221129T125503Z
LAST-MODIFIED:20240518T190542Z
UID:10001456-1842364800-1842365700@www.allsaintsberkhamsted.org.uk
SUMMARY:Evening Prayer
DESCRIPTION:with Tracy Robinson
URL:https://www.allsaintsberkhamsted.org.uk/event/evening-prayer-2/2028-05-19/
LOCATION:All Saints’ Church\, Shrublands Road\, Berkhamsted\, HP4 3HY\, United Kingdom
CATEGORIES:worship
GEO:51.7618641;-0.5750555
X-APPLE-STRUCTURED-LOCATION;VALUE=URI;X-ADDRESS=All Saints’ Church Shrublands Road Berkhamsted HP4 3HY United Kingdom;X-APPLE-RADIUS=500;X-TITLE=Shrublands Road:geo:-0.5750555,51.7618641
END:VEVENT
BEGIN:VEVENT
DTSTART;TZID=Europe/London:20280518T204500
DTEND;TZID=Europe/London:20280518T211500
DTSTAMP:20260424T012544
CREATED:20250402T135535Z
LAST-MODIFIED:20250402T135535Z
UID:10002075-1842295500-1842297300@www.allsaintsberkhamsted.org.uk
SUMMARY:Compline (Night Prayer)
DESCRIPTION:On Zoom only\,  not in church – fortnightly on Thursday evenings \nThe Zoom link will be available on our homepage
URL:https://www.allsaintsberkhamsted.org.uk/event/compline-night-prayer-5/2028-05-18/
LOCATION:All Saints’ Church\, Shrublands Road\, Berkhamsted\, HP4 3HY\, United Kingdom
CATEGORIES:worship
GEO:51.7618641;-0.5750555
X-APPLE-STRUCTURED-LOCATION;VALUE=URI;X-ADDRESS=All Saints’ Church Shrublands Road Berkhamsted HP4 3HY United Kingdom;X-APPLE-RADIUS=500;X-TITLE=Shrublands Road:geo:-0.5750555,51.7618641
END:VEVENT
BEGIN:VEVENT
DTSTART;TZID=Europe/London:20280516T093000
DTEND;TZID=Europe/London:20280516T100000
DTSTAMP:20260424T012544
CREATED:20241107T184220Z
LAST-MODIFIED:20241107T184220Z
UID:10001886-1842082200-1842084000@www.allsaintsberkhamsted.org.uk
SUMMARY:Eucharist
DESCRIPTION:
URL:https://www.allsaintsberkhamsted.org.uk/event/eucharist/2028-05-16/
LOCATION:All Saints’ Church\, Shrublands Road\, Berkhamsted\, HP4 3HY\, United Kingdom
CATEGORIES:worship
GEO:51.7618641;-0.5750555
X-APPLE-STRUCTURED-LOCATION;VALUE=URI;X-ADDRESS=All Saints’ Church Shrublands Road Berkhamsted HP4 3HY United Kingdom;X-APPLE-RADIUS=500;X-TITLE=Shrublands Road:geo:-0.5750555,51.7618641
END:VEVENT
BEGIN:VEVENT
DTSTART;TZID=Europe/London:20280516T090000
DTEND;TZID=Europe/London:20280516T091500
DTSTAMP:20260424T012544
CREATED:20230619T152758Z
LAST-MODIFIED:20240518T190334Z
UID:10001271-1842080400-1842081300@www.allsaintsberkhamsted.org.uk
SUMMARY:Morning Prayer
DESCRIPTION:with Tracy Robinson
URL:https://www.allsaintsberkhamsted.org.uk/event/morning-prayer-3-2/2028-05-16/
LOCATION:All Saints’ Church\, Shrublands Road\, Berkhamsted\, HP4 3HY\, United Kingdom
CATEGORIES:worship
GEO:51.7618641;-0.5750555
X-APPLE-STRUCTURED-LOCATION;VALUE=URI;X-ADDRESS=All Saints’ Church Shrublands Road Berkhamsted HP4 3HY United Kingdom;X-APPLE-RADIUS=500;X-TITLE=Shrublands Road:geo:-0.5750555,51.7618641
END:VEVENT
BEGIN:VEVENT
DTSTART;TZID=Europe/London:20280512T160000
DTEND;TZID=Europe/London:20280512T161500
DTSTAMP:20260424T012544
CREATED:20221129T125503Z
LAST-MODIFIED:20240518T190542Z
UID:10001455-1841760000-1841760900@www.allsaintsberkhamsted.org.uk
SUMMARY:Evening Prayer
DESCRIPTION:with Tracy Robinson
URL:https://www.allsaintsberkhamsted.org.uk/event/evening-prayer-2/2028-05-12/
LOCATION:All Saints’ Church\, Shrublands Road\, Berkhamsted\, HP4 3HY\, United Kingdom
CATEGORIES:worship
GEO:51.7618641;-0.5750555
X-APPLE-STRUCTURED-LOCATION;VALUE=URI;X-ADDRESS=All Saints’ Church Shrublands Road Berkhamsted HP4 3HY United Kingdom;X-APPLE-RADIUS=500;X-TITLE=Shrublands Road:geo:-0.5750555,51.7618641
END:VEVENT
BEGIN:VEVENT
DTSTART;TZID=Europe/London:20280509T093000
DTEND;TZID=Europe/London:20280509T100000
DTSTAMP:20260424T012544
CREATED:20241107T184220Z
LAST-MODIFIED:20241107T184220Z
UID:10001885-1841477400-1841479200@www.allsaintsberkhamsted.org.uk
SUMMARY:Eucharist
DESCRIPTION:
URL:https://www.allsaintsberkhamsted.org.uk/event/eucharist/2028-05-09/
LOCATION:All Saints’ Church\, Shrublands Road\, Berkhamsted\, HP4 3HY\, United Kingdom
CATEGORIES:worship
GEO:51.7618641;-0.5750555
X-APPLE-STRUCTURED-LOCATION;VALUE=URI;X-ADDRESS=All Saints’ Church Shrublands Road Berkhamsted HP4 3HY United Kingdom;X-APPLE-RADIUS=500;X-TITLE=Shrublands Road:geo:-0.5750555,51.7618641
END:VEVENT
BEGIN:VEVENT
DTSTART;TZID=Europe/London:20280509T090000
DTEND;TZID=Europe/London:20280509T091500
DTSTAMP:20260424T012544
CREATED:20230619T152758Z
LAST-MODIFIED:20240518T190334Z
UID:10001270-1841475600-1841476500@www.allsaintsberkhamsted.org.uk
SUMMARY:Morning Prayer
DESCRIPTION:with Tracy Robinson
URL:https://www.allsaintsberkhamsted.org.uk/event/morning-prayer-3-2/2028-05-09/
LOCATION:All Saints’ Church\, Shrublands Road\, Berkhamsted\, HP4 3HY\, United Kingdom
CATEGORIES:worship
GEO:51.7618641;-0.5750555
X-APPLE-STRUCTURED-LOCATION;VALUE=URI;X-ADDRESS=All Saints’ Church Shrublands Road Berkhamsted HP4 3HY United Kingdom;X-APPLE-RADIUS=500;X-TITLE=Shrublands Road:geo:-0.5750555,51.7618641
END:VEVENT
BEGIN:VEVENT
DTSTART;TZID=Europe/London:20280505T160000
DTEND;TZID=Europe/London:20280505T161500
DTSTAMP:20260424T012544
CREATED:20221129T125503Z
LAST-MODIFIED:20240518T190542Z
UID:10001454-1841155200-1841156100@www.allsaintsberkhamsted.org.uk
SUMMARY:Evening Prayer
DESCRIPTION:with Tracy Robinson
URL:https://www.allsaintsberkhamsted.org.uk/event/evening-prayer-2/2028-05-05/
LOCATION:All Saints’ Church\, Shrublands Road\, Berkhamsted\, HP4 3HY\, United Kingdom
CATEGORIES:worship
GEO:51.7618641;-0.5750555
X-APPLE-STRUCTURED-LOCATION;VALUE=URI;X-ADDRESS=All Saints’ Church Shrublands Road Berkhamsted HP4 3HY United Kingdom;X-APPLE-RADIUS=500;X-TITLE=Shrublands Road:geo:-0.5750555,51.7618641
END:VEVENT
BEGIN:VEVENT
DTSTART;TZID=Europe/London:20280504T204500
DTEND;TZID=Europe/London:20280504T211500
DTSTAMP:20260424T012544
CREATED:20250402T135535Z
LAST-MODIFIED:20250402T135535Z
UID:10002074-1841085900-1841087700@www.allsaintsberkhamsted.org.uk
SUMMARY:Compline (Night Prayer)
DESCRIPTION:On Zoom only\,  not in church – fortnightly on Thursday evenings \nThe Zoom link will be available on our homepage
URL:https://www.allsaintsberkhamsted.org.uk/event/compline-night-prayer-5/2028-05-04/
LOCATION:All Saints’ Church\, Shrublands Road\, Berkhamsted\, HP4 3HY\, United Kingdom
CATEGORIES:worship
GEO:51.7618641;-0.5750555
X-APPLE-STRUCTURED-LOCATION;VALUE=URI;X-ADDRESS=All Saints’ Church Shrublands Road Berkhamsted HP4 3HY United Kingdom;X-APPLE-RADIUS=500;X-TITLE=Shrublands Road:geo:-0.5750555,51.7618641
END:VEVENT
BEGIN:VEVENT
DTSTART;TZID=Europe/London:20280502T093000
DTEND;TZID=Europe/London:20280502T100000
DTSTAMP:20260424T012544
CREATED:20241107T184220Z
LAST-MODIFIED:20241107T184220Z
UID:10001884-1840872600-1840874400@www.allsaintsberkhamsted.org.uk
SUMMARY:Eucharist
DESCRIPTION:
URL:https://www.allsaintsberkhamsted.org.uk/event/eucharist/2028-05-02/
LOCATION:All Saints’ Church\, Shrublands Road\, Berkhamsted\, HP4 3HY\, United Kingdom
CATEGORIES:worship
GEO:51.7618641;-0.5750555
X-APPLE-STRUCTURED-LOCATION;VALUE=URI;X-ADDRESS=All Saints’ Church Shrublands Road Berkhamsted HP4 3HY United Kingdom;X-APPLE-RADIUS=500;X-TITLE=Shrublands Road:geo:-0.5750555,51.7618641
END:VEVENT
BEGIN:VEVENT
DTSTART;TZID=Europe/London:20280502T090000
DTEND;TZID=Europe/London:20280502T091500
DTSTAMP:20260424T012544
CREATED:20230619T152758Z
LAST-MODIFIED:20240518T190334Z
UID:10001269-1840870800-1840871700@www.allsaintsberkhamsted.org.uk
SUMMARY:Morning Prayer
DESCRIPTION:with Tracy Robinson
URL:https://www.allsaintsberkhamsted.org.uk/event/morning-prayer-3-2/2028-05-02/
LOCATION:All Saints’ Church\, Shrublands Road\, Berkhamsted\, HP4 3HY\, United Kingdom
CATEGORIES:worship
GEO:51.7618641;-0.5750555
X-APPLE-STRUCTURED-LOCATION;VALUE=URI;X-ADDRESS=All Saints’ Church Shrublands Road Berkhamsted HP4 3HY United Kingdom;X-APPLE-RADIUS=500;X-TITLE=Shrublands Road:geo:-0.5750555,51.7618641
END:VEVENT
BEGIN:VEVENT
DTSTART;TZID=Europe/London:20280428T160000
DTEND;TZID=Europe/London:20280428T161500
DTSTAMP:20260424T012544
CREATED:20221129T125503Z
LAST-MODIFIED:20240518T190542Z
UID:10001453-1840550400-1840551300@www.allsaintsberkhamsted.org.uk
SUMMARY:Evening Prayer
DESCRIPTION:with Tracy Robinson
URL:https://www.allsaintsberkhamsted.org.uk/event/evening-prayer-2/2028-04-28/
LOCATION:All Saints’ Church\, Shrublands Road\, Berkhamsted\, HP4 3HY\, United Kingdom
CATEGORIES:worship
GEO:51.7618641;-0.5750555
X-APPLE-STRUCTURED-LOCATION;VALUE=URI;X-ADDRESS=All Saints’ Church Shrublands Road Berkhamsted HP4 3HY United Kingdom;X-APPLE-RADIUS=500;X-TITLE=Shrublands Road:geo:-0.5750555,51.7618641
END:VEVENT
BEGIN:VEVENT
DTSTART;TZID=Europe/London:20280425T093000
DTEND;TZID=Europe/London:20280425T100000
DTSTAMP:20260424T012544
CREATED:20241107T184220Z
LAST-MODIFIED:20241107T184220Z
UID:10001883-1840267800-1840269600@www.allsaintsberkhamsted.org.uk
SUMMARY:Eucharist
DESCRIPTION:
URL:https://www.allsaintsberkhamsted.org.uk/event/eucharist/2028-04-25/
LOCATION:All Saints’ Church\, Shrublands Road\, Berkhamsted\, HP4 3HY\, United Kingdom
CATEGORIES:worship
GEO:51.7618641;-0.5750555
X-APPLE-STRUCTURED-LOCATION;VALUE=URI;X-ADDRESS=All Saints’ Church Shrublands Road Berkhamsted HP4 3HY United Kingdom;X-APPLE-RADIUS=500;X-TITLE=Shrublands Road:geo:-0.5750555,51.7618641
END:VEVENT
BEGIN:VEVENT
DTSTART;TZID=Europe/London:20280425T090000
DTEND;TZID=Europe/London:20280425T091500
DTSTAMP:20260424T012544
CREATED:20230619T152758Z
LAST-MODIFIED:20240518T190334Z
UID:10001268-1840266000-1840266900@www.allsaintsberkhamsted.org.uk
SUMMARY:Morning Prayer
DESCRIPTION:with Tracy Robinson
URL:https://www.allsaintsberkhamsted.org.uk/event/morning-prayer-3-2/2028-04-25/
LOCATION:All Saints’ Church\, Shrublands Road\, Berkhamsted\, HP4 3HY\, United Kingdom
CATEGORIES:worship
GEO:51.7618641;-0.5750555
X-APPLE-STRUCTURED-LOCATION;VALUE=URI;X-ADDRESS=All Saints’ Church Shrublands Road Berkhamsted HP4 3HY United Kingdom;X-APPLE-RADIUS=500;X-TITLE=Shrublands Road:geo:-0.5750555,51.7618641
END:VEVENT
BEGIN:VEVENT
DTSTART;TZID=Europe/London:20280421T160000
DTEND;TZID=Europe/London:20280421T161500
DTSTAMP:20260424T012544
CREATED:20221129T125503Z
LAST-MODIFIED:20240518T190542Z
UID:10001452-1839945600-1839946500@www.allsaintsberkhamsted.org.uk
SUMMARY:Evening Prayer
DESCRIPTION:with Tracy Robinson
URL:https://www.allsaintsberkhamsted.org.uk/event/evening-prayer-2/2028-04-21/
LOCATION:All Saints’ Church\, Shrublands Road\, Berkhamsted\, HP4 3HY\, United Kingdom
CATEGORIES:worship
GEO:51.7618641;-0.5750555
X-APPLE-STRUCTURED-LOCATION;VALUE=URI;X-ADDRESS=All Saints’ Church Shrublands Road Berkhamsted HP4 3HY United Kingdom;X-APPLE-RADIUS=500;X-TITLE=Shrublands Road:geo:-0.5750555,51.7618641
END:VEVENT
BEGIN:VEVENT
DTSTART;TZID=Europe/London:20280420T204500
DTEND;TZID=Europe/London:20280420T211500
DTSTAMP:20260424T012544
CREATED:20250402T135535Z
LAST-MODIFIED:20250402T135535Z
UID:10002073-1839876300-1839878100@www.allsaintsberkhamsted.org.uk
SUMMARY:Compline (Night Prayer)
DESCRIPTION:On Zoom only\,  not in church – fortnightly on Thursday evenings \nThe Zoom link will be available on our homepage
URL:https://www.allsaintsberkhamsted.org.uk/event/compline-night-prayer-5/2028-04-20/
LOCATION:All Saints’ Church\, Shrublands Road\, Berkhamsted\, HP4 3HY\, United Kingdom
CATEGORIES:worship
GEO:51.7618641;-0.5750555
X-APPLE-STRUCTURED-LOCATION;VALUE=URI;X-ADDRESS=All Saints’ Church Shrublands Road Berkhamsted HP4 3HY United Kingdom;X-APPLE-RADIUS=500;X-TITLE=Shrublands Road:geo:-0.5750555,51.7618641
END:VEVENT
BEGIN:VEVENT
DTSTART;TZID=Europe/London:20280418T093000
DTEND;TZID=Europe/London:20280418T100000
DTSTAMP:20260424T012544
CREATED:20241107T184220Z
LAST-MODIFIED:20241107T184220Z
UID:10001882-1839663000-1839664800@www.allsaintsberkhamsted.org.uk
SUMMARY:Eucharist
DESCRIPTION:
URL:https://www.allsaintsberkhamsted.org.uk/event/eucharist/2028-04-18/
LOCATION:All Saints’ Church\, Shrublands Road\, Berkhamsted\, HP4 3HY\, United Kingdom
CATEGORIES:worship
GEO:51.7618641;-0.5750555
X-APPLE-STRUCTURED-LOCATION;VALUE=URI;X-ADDRESS=All Saints’ Church Shrublands Road Berkhamsted HP4 3HY United Kingdom;X-APPLE-RADIUS=500;X-TITLE=Shrublands Road:geo:-0.5750555,51.7618641
END:VEVENT
BEGIN:VEVENT
DTSTART;TZID=Europe/London:20280418T090000
DTEND;TZID=Europe/London:20280418T091500
DTSTAMP:20260424T012544
CREATED:20230619T152758Z
LAST-MODIFIED:20240518T190334Z
UID:10001267-1839661200-1839662100@www.allsaintsberkhamsted.org.uk
SUMMARY:Morning Prayer
DESCRIPTION:with Tracy Robinson
URL:https://www.allsaintsberkhamsted.org.uk/event/morning-prayer-3-2/2028-04-18/
LOCATION:All Saints’ Church\, Shrublands Road\, Berkhamsted\, HP4 3HY\, United Kingdom
CATEGORIES:worship
GEO:51.7618641;-0.5750555
X-APPLE-STRUCTURED-LOCATION;VALUE=URI;X-ADDRESS=All Saints’ Church Shrublands Road Berkhamsted HP4 3HY United Kingdom;X-APPLE-RADIUS=500;X-TITLE=Shrublands Road:geo:-0.5750555,51.7618641
END:VEVENT
BEGIN:VEVENT
DTSTART;TZID=Europe/London:20280414T160000
DTEND;TZID=Europe/London:20280414T161500
DTSTAMP:20260424T012544
CREATED:20221129T125503Z
LAST-MODIFIED:20240518T190542Z
UID:10001451-1839340800-1839341700@www.allsaintsberkhamsted.org.uk
SUMMARY:Evening Prayer
DESCRIPTION:with Tracy Robinson
URL:https://www.allsaintsberkhamsted.org.uk/event/evening-prayer-2/2028-04-14/
LOCATION:All Saints’ Church\, Shrublands Road\, Berkhamsted\, HP4 3HY\, United Kingdom
CATEGORIES:worship
GEO:51.7618641;-0.5750555
X-APPLE-STRUCTURED-LOCATION;VALUE=URI;X-ADDRESS=All Saints’ Church Shrublands Road Berkhamsted HP4 3HY United Kingdom;X-APPLE-RADIUS=500;X-TITLE=Shrublands Road:geo:-0.5750555,51.7618641
END:VEVENT
BEGIN:VEVENT
DTSTART;TZID=Europe/London:20280411T093000
DTEND;TZID=Europe/London:20280411T100000
DTSTAMP:20260424T012544
CREATED:20241107T184220Z
LAST-MODIFIED:20241107T184220Z
UID:10001881-1839058200-1839060000@www.allsaintsberkhamsted.org.uk
SUMMARY:Eucharist
DESCRIPTION:
URL:https://www.allsaintsberkhamsted.org.uk/event/eucharist/2028-04-11/
LOCATION:All Saints’ Church\, Shrublands Road\, Berkhamsted\, HP4 3HY\, United Kingdom
CATEGORIES:worship
GEO:51.7618641;-0.5750555
X-APPLE-STRUCTURED-LOCATION;VALUE=URI;X-ADDRESS=All Saints’ Church Shrublands Road Berkhamsted HP4 3HY United Kingdom;X-APPLE-RADIUS=500;X-TITLE=Shrublands Road:geo:-0.5750555,51.7618641
END:VEVENT
BEGIN:VEVENT
DTSTART;TZID=Europe/London:20280411T090000
DTEND;TZID=Europe/London:20280411T091500
DTSTAMP:20260424T012544
CREATED:20230619T152758Z
LAST-MODIFIED:20240518T190334Z
UID:10001266-1839056400-1839057300@www.allsaintsberkhamsted.org.uk
SUMMARY:Morning Prayer
DESCRIPTION:with Tracy Robinson
URL:https://www.allsaintsberkhamsted.org.uk/event/morning-prayer-3-2/2028-04-11/
LOCATION:All Saints’ Church\, Shrublands Road\, Berkhamsted\, HP4 3HY\, United Kingdom
CATEGORIES:worship
GEO:51.7618641;-0.5750555
X-APPLE-STRUCTURED-LOCATION;VALUE=URI;X-ADDRESS=All Saints’ Church Shrublands Road Berkhamsted HP4 3HY United Kingdom;X-APPLE-RADIUS=500;X-TITLE=Shrublands Road:geo:-0.5750555,51.7618641
END:VEVENT
BEGIN:VEVENT
DTSTART;TZID=Europe/London:20280407T160000
DTEND;TZID=Europe/London:20280407T161500
DTSTAMP:20260424T012544
CREATED:20221129T125503Z
LAST-MODIFIED:20240518T190542Z
UID:10001450-1838736000-1838736900@www.allsaintsberkhamsted.org.uk
SUMMARY:Evening Prayer
DESCRIPTION:with Tracy Robinson
URL:https://www.allsaintsberkhamsted.org.uk/event/evening-prayer-2/2028-04-07/
LOCATION:All Saints’ Church\, Shrublands Road\, Berkhamsted\, HP4 3HY\, United Kingdom
CATEGORIES:worship
GEO:51.7618641;-0.5750555
X-APPLE-STRUCTURED-LOCATION;VALUE=URI;X-ADDRESS=All Saints’ Church Shrublands Road Berkhamsted HP4 3HY United Kingdom;X-APPLE-RADIUS=500;X-TITLE=Shrublands Road:geo:-0.5750555,51.7618641
END:VEVENT
BEGIN:VEVENT
DTSTART;TZID=Europe/London:20280406T204500
DTEND;TZID=Europe/London:20280406T211500
DTSTAMP:20260424T012544
CREATED:20250402T135535Z
LAST-MODIFIED:20250402T135535Z
UID:10002072-1838666700-1838668500@www.allsaintsberkhamsted.org.uk
SUMMARY:Compline (Night Prayer)
DESCRIPTION:On Zoom only\,  not in church – fortnightly on Thursday evenings \nThe Zoom link will be available on our homepage
URL:https://www.allsaintsberkhamsted.org.uk/event/compline-night-prayer-5/2028-04-06/
LOCATION:All Saints’ Church\, Shrublands Road\, Berkhamsted\, HP4 3HY\, United Kingdom
CATEGORIES:worship
GEO:51.7618641;-0.5750555
X-APPLE-STRUCTURED-LOCATION;VALUE=URI;X-ADDRESS=All Saints’ Church Shrublands Road Berkhamsted HP4 3HY United Kingdom;X-APPLE-RADIUS=500;X-TITLE=Shrublands Road:geo:-0.5750555,51.7618641
END:VEVENT
BEGIN:VEVENT
DTSTART;TZID=Europe/London:20280404T093000
DTEND;TZID=Europe/London:20280404T100000
DTSTAMP:20260424T012544
CREATED:20241107T184220Z
LAST-MODIFIED:20241107T184220Z
UID:10001880-1838453400-1838455200@www.allsaintsberkhamsted.org.uk
SUMMARY:Eucharist
DESCRIPTION:
URL:https://www.allsaintsberkhamsted.org.uk/event/eucharist/2028-04-04/
LOCATION:All Saints’ Church\, Shrublands Road\, Berkhamsted\, HP4 3HY\, United Kingdom
CATEGORIES:worship
GEO:51.7618641;-0.5750555
X-APPLE-STRUCTURED-LOCATION;VALUE=URI;X-ADDRESS=All Saints’ Church Shrublands Road Berkhamsted HP4 3HY United Kingdom;X-APPLE-RADIUS=500;X-TITLE=Shrublands Road:geo:-0.5750555,51.7618641
END:VEVENT
BEGIN:VEVENT
DTSTART;TZID=Europe/London:20280404T090000
DTEND;TZID=Europe/London:20280404T091500
DTSTAMP:20260424T012544
CREATED:20230619T152758Z
LAST-MODIFIED:20240518T190334Z
UID:10001265-1838451600-1838452500@www.allsaintsberkhamsted.org.uk
SUMMARY:Morning Prayer
DESCRIPTION:with Tracy Robinson
URL:https://www.allsaintsberkhamsted.org.uk/event/morning-prayer-3-2/2028-04-04/
LOCATION:All Saints’ Church\, Shrublands Road\, Berkhamsted\, HP4 3HY\, United Kingdom
CATEGORIES:worship
GEO:51.7618641;-0.5750555
X-APPLE-STRUCTURED-LOCATION;VALUE=URI;X-ADDRESS=All Saints’ Church Shrublands Road Berkhamsted HP4 3HY United Kingdom;X-APPLE-RADIUS=500;X-TITLE=Shrublands Road:geo:-0.5750555,51.7618641
END:VEVENT
END:VCALENDAR